{"text_format":"3","workbook":"xlsx","n_sheets":16,"sheets":["合計","解析","集計","ひな形","1月","2月","3月","4月","5月","6月","7月","8月","9月","10月","11月","12月"],"not_rendered":{"defined_names":1,"pivot_tables":1},"read":"whole","date_system":"1900"}

{"sheet":"合計","index":0,"n_rows":17,"n_cols":5,"rows_kept":17}
[null,null,"収入","支出","合計"]
[null,"繰り越し",null,null,{"$f":"SUM(C2:D2)","v":{"v":0,"d":"¥0"}}]
[null,"2020-01-01",{"$f":"'1月'!B27","v":{"v":0,"d":"¥0"}},{"$f":"'1月'!E27","v":{"v":0,"d":"¥0"}},{"$f":"SUM(C3:D3)","v":{"v":0,"d":"¥0"}}]
[null,"2020-02-01",{"$f":"'2月'!B27","v":{"v":0,"d":"¥0"}},{"$f":"'2月'!E27","v":{"v":0,"d":"¥0"}},{"v":0,"d":"¥0"}]
[null,"2020-03-01",{"$f":"'3月'!B27","v":{"v":0,"d":"¥0"}},{"$f":"'3月'!E27","v":{"v":0,"d":"¥0"}},{"v":0,"d":"¥0"}]
[null,"2020-04-01",{"$f":"'4月'!B27","v":{"v":0,"d":"¥0"}},{"$f":"'4月'!E27","v":{"v":0,"d":"¥0"}},{"v":0,"d":"¥0"}]
[null,"2020-05-01",{"$f":"'5月'!B27","v":{"v":0,"d":"¥0"}},{"$f":"'5月'!E27","v":{"v":0,"d":"¥0"}},{"v":0,"d":"¥0"}]
[null,"2020-06-01",{"$f":"'6月'!B27","v":{"v":0,"d":"¥0"}},{"$f":"'6月'!E27","v":{"v":0,"d":"¥0"}},{"v":0,"d":"¥0"}]
[null,"2020-07-01",{"$f":"'7月'!B27","v":{"v":0,"d":"¥0"}},{"$f":"'7月'!E27","v":{"v":0,"d":"¥0"}},{"v":0,"d":"¥0"}]
[null,"2020-08-01",{"$f":"'8月'!B27","v":{"v":0,"d":"¥0"}},{"$f":"'8月'!E27","v":{"v":0,"d":"¥0"}},{"v":0,"d":"¥0"}]
[null,"2020-09-01",{"$f":"'9月'!B27","v":{"v":0,"d":"¥0"}},{"$f":"'9月'!E27","v":{"v":0,"d":"¥0"}},{"v":0,"d":"¥0"}]
[null,"2020-10-01",{"$f":"'10月'!B27","v":{"v":0,"d":"¥0"}},{"$f":"'10月'!E27","v":{"v":0,"d":"¥0"}},{"v":0,"d":"¥0"}]
[null,"2020-11-01",{"$f":"'11月'!B27","v":{"v":0,"d":"¥0"}},{"$f":"'11月'!E27","v":{"v":0,"d":"¥0"}},{"v":0,"d":"¥0"}]
[null,"2020-12-01",{"$f":"'12月'!B27","v":{"v":0,"d":"¥0"}},{"$f":"'12月'!E27","v":{"v":0,"d":"¥0"}},{"v":0,"d":"¥0"}]
[null,"合計",{"$f":"SUM(C2:C14)","v":{"v":0,"d":"¥0"}},{"$f":"SUM(D2:D14)","v":{"v":0,"d":"¥0"}},{"v":0,"d":"¥0"}]
[null,"平均",{"$f":"AVERAGE(C3:C14)","v":{"v":0,"d":"¥0"}},{"$f":"AVERAGE(D3:D14)","v":{"v":0,"d":"¥0"}},{"v":0,"d":"¥0"}]
[null,"今年の収支",{"$f":"SUM(C3:C14)","v":{"v":0,"d":"¥0"}},{"$f":"SUM(D3:D14)","v":{"v":0,"d":"¥0"}},{"v":0,"d":"¥0"}]

{"sheet":"解析","index":1,"n_rows":36,"n_cols":14,"rows_kept":36}
[]
[]
["平均 / 入出金","列ラベル"]
["行ラベル","1月","2月","3月","4月","5月","6月","7月","8月","9月","10月","11月","12月","総計"]
["01給料（自分）",{"v":0,"d":"¥0"},{"v":0,"d":"¥0"},{"v":0,"d":"¥0"},{"v":0,"d":"¥0"},{"v":0,"d":"¥0"},{"v":0,"d":"¥0"},{"v":0,"d":"¥0"},{"v":0,"d":"¥0"},{"v":0,"d":"¥0"},{"v":0,"d":"¥0"},{"v":0,"d":"¥0"},{"v":0,"d":"¥0"},{"v":0,"d":"¥0"}]
["02給料（同居者）",{"v":0,"d":"¥0"},{"v":0,"d":"¥0"},{"v":0,"d":"¥0"},{"v":0,"d":"¥0"},{"v":0,"d":"¥0"},{"v":0,"d":"¥0"},{"v":0,"d":"¥0"},{"v":0,"d":"¥0"},{"v":0,"d":"¥0"},{"v":0,"d":"¥0"},{"v":0,"d":"¥0"},{"v":0,"d":"¥0"},{"v":0,"d":"¥0"}]
["03自営収入（自分）",{"v":0,"d":"¥0"},{"v":0,"d":"¥0"},{"v":0,"d":"¥0"},{"v":0,"d":"¥0"},{"v":0,"d":"¥0"},{"v":0,"d":"¥0"},{"v":0,"d":"¥0"},{"v":0,"d":"¥0"},{"v":0,"d":"¥0"},{"v":0,"d":"¥0"},{"v":0,"d":"¥0"},{"v":0,"d":"¥0"},{"v":0,"d":"¥0"}]
["04自営収入（同居者）",{"v":0,"d":"¥0"},{"v":0,"d":"¥0"},{"v":0,"d":"¥0"},{"v":0,"d":"¥0"},{"v":0,"d":"¥0"},{"v":0,"d":"¥0"},{"v":0,"d":"¥0"},{"v":0,"d":"¥0"},{"v":0,"d":"¥0"},{"v":0,"d":"¥0"},{"v":0,"d":"¥0"},{"v":0,"d":"¥0"},{"v":0,"d":"¥0"}]
["05年金（自分）",{"v":0,"d":"¥0"},{"v":0,"d":"¥0"},{"v":0,"d":"¥0"},{"v":0,"d":"¥0"},{"v":0,"d":"¥0"},{"v":0,"d":"¥0"},{"v":0,"d":"¥0"},{"v":0,"d":"¥0"},{"v":0,"d":"¥0"},{"v":0,"d":"¥0"},{"v":0,"d":"¥0"},{"v":0,"d":"¥0"},{"v":0,"d":"¥0"}]
["06年金（同居者）",{"v":0,"d":"¥0"},{"v":0,"d":"¥0"},{"v":0,"d":"¥0"},{"v":0,"d":"¥0"},{"v":0,"d":"¥0"},{"v":0,"d":"¥0"},{"v":0,"d":"¥0"},{"v":0,"d":"¥0"},{"v":0,"d":"¥0"},{"v":0,"d":"¥0"},{"v":0,"d":"¥0"},{"v":0,"d":"¥0"},{"v":0,"d":"¥0"}]
["07生活保護（世帯分）",{"v":0,"d":"¥0"},{"v":0,"d":"¥0"},{"v":0,"d":"¥0"},{"v":0,"d":"¥0"},{"v":0,"d":"¥0"},{"v":0,"d":"¥0"},{"v":0,"d":"¥0"},{"v":0,"d":"¥0"},{"v":0,"d":"¥0"},{"v":0,"d":"¥0"},{"v":0,"d":"¥0"},{"v":0,"d":"¥0"},{"v":0,"d":"¥0"}]
["08失業保険（自分）",{"v":0,"d":"¥0"},{"v":0,"d":"¥0"},{"v":0,"d":"¥0"},{"v":0,"d":"¥0"},{"v":0,"d":"¥0"},{"v":0,"d":"¥0"},{"v":0,"d":"¥0"},{"v":0,"d":"¥0"},{"v":0,"d":"¥0"},{"v":0,"d":"¥0"},{"v":0,"d":"¥0"},{"v":0,"d":"¥0"},{"v":0,"d":"¥0"}]
["09失業保険（同居者）",{"v":0,"d":"¥0"},{"v":0,"d":"¥0"},{"v":0,"d":"¥0"},{"v":0,"d":"¥0"},{"v":0,"d":"¥0"},{"v":0,"d":"¥0"},{"v":0,"d":"¥0"},{"v":0,"d":"¥0"},{"v":0,"d":"¥0"},{"v":0,"d":"¥0"},{"v":0,"d":"¥0"},{"v":0,"d":"¥0"},{"v":0,"d":"¥0"}]
["10児童手当（世帯分）",{"v":0,"d":"¥0"},{"v":0,"d":"¥0"},{"v":0,"d":"¥0"},{"v":0,"d":"¥0"},{"v":0,"d":"¥0"},{"v":0,"d":"¥0"},{"v":0,"d":"¥0"},{"v":0,"d":"¥0"},{"v":0,"d":"¥0"},{"v":0,"d":"¥0"},{"v":0,"d":"¥0"},{"v":0,"d":"¥0"},{"v":0,"d":"¥0"}]
["11援助",{"v":0,"d":"¥0"},{"v":0,"d":"¥0"},{"v":0,"d":"¥0"},{"v":0,"d":"¥0"},{"v":0,"d":"¥0"},{"v":0,"d":"¥0"},{"v":0,"d":"¥0"},{"v":0,"d":"¥0"},{"v":0,"d":"¥0"},{"v":0,"d":"¥0"},{"v":0,"d":"¥0"},{"v":0,"d":"¥0"},{"v":0,"d":"¥0"}]
["12公的援助",{"v":0,"d":"¥0"},{"v":0,"d":"¥0"},{"v":0,"d":"¥0"},{"v":0,"d":"¥0"},{"v":0,"d":"¥0"},{"v":0,"d":"¥0"},{"v":0,"d":"¥0"},{"v":0,"d":"¥0"},{"v":0,"d":"¥0"},{"v":0,"d":"¥0"},{"v":0,"d":"¥0"},{"v":0,"d":"¥0"},{"v":0,"d":"¥0"}]
["50家賃・管理費",{"v":0,"d":"¥0"},{"v":0,"d":"¥0"},{"v":0,"d":"¥0"},{"v":0,"d":"¥0"},{"v":0,"d":"¥0"},{"v":0,"d":"¥0"},{"v":0,"d":"¥0"},{"v":0,"d":"¥0"},{"v":0,"d":"¥0"},{"v":0,"d":"¥0"},{"v":0,"d":"¥0"},{"v":0,"d":"¥0"},{"v":0,"d":"¥0"}]
["51食費",{"v":0,"d":"¥0"},{"v":0,"d":"¥0"},{"v":0,"d":"¥0"},{"v":0,"d":"¥0"},{"v":0,"d":"¥0"},{"v":0,"d":"¥0"},{"v":0,"d":"¥0"},{"v":0,"d":"¥0"},{"v":0,"d":"¥0"},{"v":0,"d":"¥0"},{"v":0,"d":"¥0"},{"v":0,"d":"¥0"},{"v":0,"d":"¥0"}]
["52水道・光熱費",{"v":0,"d":"¥0"},{"v":0,"d":"¥0"},{"v":0,"d":"¥0"},{"v":0,"d":"¥0"},{"v":0,"d":"¥0"},{"v":0,"d":"¥0"},{"v":0,"d":"¥0"},{"v":0,"d":"¥0"},{"v":0,"d":"¥0"},{"v":0,"d":"¥0"},{"v":0,"d":"¥0"},{"v":0,"d":"¥0"},{"v":0,"d":"¥0"}]
["53電話料",{"v":0,"d":"¥0"},{"v":0,"d":"¥0"},{"v":0,"d":"¥0"},{"v":0,"d":"¥0"},{"v":0,"d":"¥0"},{"v":0,"d":"¥0"},{"v":0,"d":"¥0"},{"v":0,"d":"¥0"},{"v":0,"d":"¥0"},{"v":0,"d":"¥0"},{"v":0,"d":"¥0"},{"v":0,"d":"¥0"},{"v":0,"d":"¥0"}]
["54衣類・日用品",{"v":0,"d":"¥0"},{"v":0,"d":"¥0"},{"v":0,"d":"¥0"},{"v":0,"d":"¥0"},{"v":0,"d":"¥0"},{"v":0,"d":"¥0"},{"v":0,"d":"¥0"},{"v":0,"d":"¥0"},{"v":0,"d":"¥0"},{"v":0,"d":"¥0"},{"v":0,"d":"¥0"},{"v":0,"d":"¥0"},{"v":0,"d":"¥0"}]
["55医療費",{"v":0,"d":"¥0"},{"v":0,"d":"¥0"},{"v":0,"d":"¥0"},{"v":0,"d":"¥0"},{"v":0,"d":"¥0"},{"v":0,"d":"¥0"},{"v":0,"d":"¥0"},{"v":0,"d":"¥0"},{"v":0,"d":"¥0"},{"v":0,"d":"¥0"},{"v":0,"d":"¥0"},{"v":0,"d":"¥0"},{"v":0,"d":"¥0"}]
["56教育費",{"v":0,"d":"¥0"},{"v":0,"d":"¥0"},{"v":0,"d":"¥0"},{"v":0,"d":"¥0"},{"v":0,"d":"¥0"},{"v":0,"d":"¥0"},{"v":0,"d":"¥0"},{"v":0,"d":"¥0"},{"v":0,"d":"¥0"},{"v":0,"d":"¥0"},{"v":0,"d":"¥0"},{"v":0,"d":"¥0"},{"v":0,"d":"¥0"}]
["57交際費・遊興費",{"v":0,"d":"¥0"},{"v":0,"d":"¥0"},{"v":0,"d":"¥0"},{"v":0,"d":"¥0"},{"v":0,"d":"¥0"},{"v":0,"d":"¥0"},{"v":0,"d":"¥0"},{"v":0,"d":"¥0"},{"v":0,"d":"¥0"},{"v":0,"d":"¥0"},{"v":0,"d":"¥0"},{"v":0,"d":"¥0"},{"v":0,"d":"¥0"}]
["58保険料",{"v":0,"d":"¥0"},{"v":0,"d":"¥0"},{"v":0,"d":"¥0"},{"v":0,"d":"¥0"},{"v":0,"d":"¥0"},{"v":0,"d":"¥0"},{"v":0,"d":"¥0"},{"v":0,"d":"¥0"},{"v":0,"d":"¥0"},{"v":0,"d":"¥0"},{"v":0,"d":"¥0"},{"v":0,"d":"¥0"},{"v":0,"d":"¥0"}]
["59駐車場代",{"v":0,"d":"¥0"},{"v":0,"d":"¥0"},{"v":0,"d":"¥0"},{"v":0,"d":"¥0"},{"v":0,"d":"¥0"},{"v":0,"d":"¥0"},{"v":0,"d":"¥0"},{"v":0,"d":"¥0"},{"v":0,"d":"¥0"},{"v":0,"d":"¥0"},{"v":0,"d":"¥0"},{"v":0,"d":"¥0"},{"v":0,"d":"¥0"}]
["60ガソリン代・灯油代",{"v":0,"d":"¥0"},{"v":0,"d":"¥0"},{"v":0,"d":"¥0"},{"v":0,"d":"¥0"},{"v":0,"d":"¥0"},{"v":0,"d":"¥0"},{"v":0,"d":"¥0"},{"v":0,"d":"¥0"},{"v":0,"d":"¥0"},{"v":0,"d":"¥0"},{"v":0,"d":"¥0"},{"v":0,"d":"¥0"},{"v":0,"d":"¥0"}]
["61仕事",{"v":0,"d":"¥0"},{"v":0,"d":"¥0"},{"v":0,"d":"¥0"},{"v":0,"d":"¥0"},{"v":0,"d":"¥0"},{"v":0,"d":"¥0"},{"v":0,"d":"¥0"},{"v":0,"d":"¥0"},{"v":0,"d":"¥0"},{"v":0,"d":"¥0"},{"v":0,"d":"¥0"},{"v":0,"d":"¥0"},{"v":0,"d":"¥0"}]
["62車代",{"v":0,"d":"¥0"},{"v":0,"d":"¥0"},{"v":0,"d":"¥0"},{"v":0,"d":"¥0"},{"v":0,"d":"¥0"},{"v":0,"d":"¥0"},{"v":0,"d":"¥0"},{"v":0,"d":"¥0"},{"v":0,"d":"¥0"},{"v":0,"d":"¥0"},{"v":0,"d":"¥0"},{"v":0,"d":"¥0"},{"v":0,"d":"¥0"}]
["63介護費用",{"v":0,"d":"¥0"},{"v":0,"d":"¥0"},{"v":0,"d":"¥0"},{"v":0,"d":"¥0"},{"v":0,"d":"¥0"},{"v":0,"d":"¥0"},{"v":0,"d":"¥0"},{"v":0,"d":"¥0"},{"v":0,"d":"¥0"},{"v":0,"d":"¥0"},{"v":0,"d":"¥0"},{"v":0,"d":"¥0"},{"v":0,"d":"¥0"}]
["64弁護士費用",{"v":0,"d":"¥0"},{"v":0,"d":"¥0"},{"v":0,"d":"¥0"},{"v":0,"d":"¥0"},{"v":0,"d":"¥0"},{"v":0,"d":"¥0"},{"v":0,"d":"¥0"},{"v":0,"d":"¥0"},{"v":0,"d":"¥0"},{"v":0,"d":"¥0"},{"v":0,"d":"¥0"},{"v":0,"d":"¥0"},{"v":0,"d":"¥0"}]
["65家財道具",{"v":0,"d":"¥0"},{"v":0,"d":"¥0"},{"v":0,"d":"¥0"},{"v":0,"d":"¥0"},{"v":0,"d":"¥0"},{"v":0,"d":"¥0"},{"v":0,"d":"¥0"},{"v":0,"d":"¥0"},{"v":0,"d":"¥0"},{"v":0,"d":"¥0"},{"v":0,"d":"¥0"},{"v":0,"d":"¥0"},{"v":0,"d":"¥0"}]
["66役所",{"v":0,"d":"¥0"},{"v":0,"d":"¥0"},{"v":0,"d":"¥0"},{"v":0,"d":"¥0"},{"v":0,"d":"¥0"},{"v":0,"d":"¥0"},{"v":0,"d":"¥0"},{"v":0,"d":"¥0"},{"v":0,"d":"¥0"},{"v":0,"d":"¥0"},{"v":0,"d":"¥0"},{"v":0,"d":"¥0"},{"v":0,"d":"¥0"}]
["67散髪代",{"v":0,"d":"¥0"},{"v":0,"d":"¥0"},{"v":0,"d":"¥0"},{"v":0,"d":"¥0"},{"v":0,"d":"¥0"},{"v":0,"d":"¥0"},{"v":0,"d":"¥0"},{"v":0,"d":"¥0"},{"v":0,"d":"¥0"},{"v":0,"d":"¥0"},{"v":0,"d":"¥0"},{"v":0,"d":"¥0"},{"v":0,"d":"¥0"}]
["68税金",{"v":0,"d":"¥0"},{"v":0,"d":"¥0"},{"v":0,"d":"¥0"},{"v":0,"d":"¥0"},{"v":0,"d":"¥0"},{"v":0,"d":"¥0"},{"v":0,"d":"¥0"},{"v":0,"d":"¥0"},{"v":0,"d":"¥0"},{"v":0,"d":"¥0"},{"v":0,"d":"¥0"},{"v":0,"d":"¥0"},{"v":0,"d":"¥0"}]
["総計",{"v":0,"d":"¥0"},{"v":0,"d":"¥0"},{"v":0,"d":"¥0"},{"v":0,"d":"¥0"},{"v":0,"d":"¥0"},{"v":0,"d":"¥0"},{"v":0,"d":"¥0"},{"v":0,"d":"¥0"},{"v":0,"d":"¥0"},{"v":0,"d":"¥0"},{"v":0,"d":"¥0"},{"v":0,"d":"¥0"},{"v":0,"d":"¥0"}]

{"sheet":"集計","index":2,"n_rows":373,"n_cols":3,"rows_kept":373}
["月","項目","入出金"]
["1月",{"$f":"'1月'!A2","v":"01給料（自分）"},{"$f":"'1月'!B2","v":{"v":0,"d":"¥0"}}]
["1月",{"$f":"'1月'!A3","v":"02給料（同居者）"},{"$f":"'1月'!B3","v":{"v":0,"d":"¥0"}}]
["1月",{"$f":"'1月'!A4","v":"03自営収入（自分）"},{"$f":"'1月'!B4","v":{"v":0,"d":"¥0"}}]
["1月",{"$f":"'1月'!A5","v":"04自営収入（同居者）"},{"$f":"'1月'!B5","v":{"v":0,"d":"¥0"}}]
["1月",{"$f":"'1月'!A6","v":"05年金（自分）"},{"$f":"'1月'!B6","v":{"v":0,"d":"¥0"}}]
["1月",{"$f":"'1月'!A7","v":"06年金（同居者）"},{"$f":"'1月'!B7","v":{"v":0,"d":"¥0"}}]
["1月",{"$f":"'1月'!A8","v":"07生活保護（世帯分）"},{"$f":"'1月'!B8","v":{"v":0,"d":"¥0"}}]
["1月",{"$f":"'1月'!A9","v":"08失業保険（自分）"},{"$f":"'1月'!B9","v":{"v":0,"d":"¥0"}}]
["1月",{"$f":"'1月'!A10","v":"09失業保険（同居者）"},{"$f":"'1月'!B10","v":{"v":0,"d":"¥0"}}]
["1月",{"$f":"'1月'!A11","v":"10児童手当（世帯分）"},{"$f":"'1月'!B11","v":{"v":0,"d":"¥0"}}]
["1月",{"$f":"'1月'!A12","v":"11援助"},{"$f":"'1月'!B12","v":{"v":0,"d":"¥0"}}]
["1月",{"$f":"'1月'!A13","v":"12公的援助"},{"$f":"'1月'!B13","v":{"v":0,"d":"¥0"}}]
["1月",{"$f":"'1月'!D2","v":"50家賃・管理費"},{"$f":"'1月'!E2","v":{"v":0,"d":"¥0"}}]
["1月",{"$f":"'1月'!D3","v":"51食費"},{"$f":"'1月'!E3","v":{"v":0,"d":"¥0"}}]
["1月",{"$f":"'1月'!D4","v":"52水道・光熱費"},{"$f":"'1月'!E4","v":{"v":0,"d":"¥0"}}]
["1月",{"$f":"'1月'!D5","v":"53電話料"},{"$f":"'1月'!E5","v":{"v":0,"d":"¥0"}}]
["1月",{"$f":"'1月'!D6","v":"54衣類・日用品"},{"$f":"'1月'!E6","v":{"v":0,"d":"¥0"}}]
["1月",{"$f":"'1月'!D7","v":"55医療費"},{"$f":"'1月'!E7","v":{"v":0,"d":"¥0"}}]
["1月",{"$f":"'1月'!D8","v":"56教育費"},{"$f":"'1月'!E8","v":{"v":0,"d":"¥0"}}]
["1月",{"$f":"'1月'!D9","v":"57交際費・遊興費"},{"$f":"'1月'!E9","v":{"v":0,"d":"¥0"}}]
["1月",{"$f":"'1月'!D10","v":"58保険料"},{"$f":"'1月'!E10","v":{"v":0,"d":"¥0"}}]
["1月",{"$f":"'1月'!D11","v":"59駐車場代"},{"$f":"'1月'!E11","v":{"v":0,"d":"¥0"}}]
["1月",{"$f":"'1月'!D12","v":"60ガソリン代・灯油代"},{"$f":"'1月'!E12","v":{"v":0,"d":"¥0"}}]
["1月",{"$f":"'1月'!D13","v":"61仕事"},{"$f":"'1月'!E13","v":{"v":0,"d":"¥0"}}]
["1月",{"$f":"'1月'!D14","v":"62車代"},{"$f":"'1月'!E14","v":{"v":0,"d":"¥0"}}]
["1月",{"$f":"'1月'!D15","v":"63介護費用"},{"$f":"'1月'!E15","v":{"v":0,"d":"¥0"}}]
["1月",{"$f":"'1月'!D16","v":"64弁護士費用"},{"$f":"'1月'!E16","v":{"v":0,"d":"¥0"}}]
["1月",{"$f":"'1月'!D17","v":"65家財道具"},{"$f":"'1月'!E17","v":{"v":0,"d":"¥0"}}]
["1月",{"$f":"'1月'!D18","v":"66役所"},{"$f":"'1月'!E18","v":{"v":0,"d":"¥0"}}]
["1月",{"$f":"'1月'!D19","v":"67散髪代"},{"$f":"'1月'!E19","v":{"v":0,"d":"¥0"}}]
["1月",{"$f":"'1月'!D20","v":"68税金"},{"$f":"'1月'!E20","v":{"v":0,"d":"¥0"}}]
["2月",{"$f":"'2月'!A2","v":"01給料（自分）"},{"$f":"'2月'!B2","v":{"v":0,"d":"¥0"}}]
["2月",{"$f":"'2月'!A3","v":"02給料（同居者）"},{"$f":"'2月'!B3","v":{"v":0,"d":"¥0"}}]
["2月",{"$f":"'2月'!A4","v":"03自営収入（自分）"},{"$f":"'2月'!B4","v":{"v":0,"d":"¥0"}}]
["2月",{"$f":"'2月'!A5","v":"04自営収入（同居者）"},{"$f":"'2月'!B5","v":{"v":0,"d":"¥0"}}]
["2月",{"$f":"'2月'!A6","v":"05年金（自分）"},{"$f":"'2月'!B6","v":{"v":0,"d":"¥0"}}]
["2月",{"$f":"'2月'!A7","v":"06年金（同居者）"},{"$f":"'2月'!B7","v":{"v":0,"d":"¥0"}}]
["2月",{"$f":"'2月'!A8","v":"07生活保護（世帯分）"},{"$f":"'2月'!B8","v":{"v":0,"d":"¥0"}}]
["2月",{"$f":"'2月'!A9","v":"08失業保険（自分）"},{"$f":"'2月'!B9","v":{"v":0,"d":"¥0"}}]
["2月",{"$f":"'2月'!A10","v":"09失業保険（同居者）"},{"$f":"'2月'!B10","v":{"v":0,"d":"¥0"}}]
["2月",{"$f":"'2月'!A11","v":"10児童手当（世帯分）"},{"$f":"'2月'!B11","v":{"v":0,"d":"¥0"}}]
["2月",{"$f":"'2月'!A12","v":"11援助"},{"$f":"'2月'!B12","v":{"v":0,"d":"¥0"}}]
["2月",{"$f":"'2月'!A13","v":"12公的援助"},{"$f":"'2月'!B13","v":{"v":0,"d":"¥0"}}]
["2月",{"$f":"'2月'!D2","v":"50家賃・管理費"},{"$f":"'2月'!E2","v":{"v":0,"d":"¥0"}}]
["2月",{"$f":"'2月'!D3","v":"51食費"},{"$f":"'2月'!E3","v":{"v":0,"d":"¥0"}}]
["2月",{"$f":"'2月'!D4","v":"52水道・光熱費"},{"$f":"'2月'!E4","v":{"v":0,"d":"¥0"}}]
["2月",{"$f":"'2月'!D5","v":"53電話料"},{"$f":"'2月'!E5","v":{"v":0,"d":"¥0"}}]
["2月",{"$f":"'2月'!D6","v":"54衣類・日用品"},{"$f":"'2月'!E6","v":{"v":0,"d":"¥0"}}]
["2月",{"$f":"'2月'!D7","v":"55医療費"},{"$f":"'2月'!E7","v":{"v":0,"d":"¥0"}}]
["2月",{"$f":"'2月'!D8","v":"56教育費"},{"$f":"'2月'!E8","v":{"v":0,"d":"¥0"}}]
["2月",{"$f":"'2月'!D9","v":"57交際費・遊興費"},{"$f":"'2月'!E9","v":{"v":0,"d":"¥0"}}]
["2月",{"$f":"'2月'!D10","v":"58保険料"},{"$f":"'2月'!E10","v":{"v":0,"d":"¥0"}}]
["2月",{"$f":"'2月'!D11","v":"59駐車場代"},{"$f":"'2月'!E11","v":{"v":0,"d":"¥0"}}]
["2月",{"$f":"'2月'!D12","v":"60ガソリン代・灯油代"},{"$f":"'2月'!E12","v":{"v":0,"d":"¥0"}}]
["2月",{"$f":"'2月'!D13","v":"61仕事"},{"$f":"'2月'!E13","v":{"v":0,"d":"¥0"}}]
["2月",{"$f":"'2月'!D14","v":"62車代"},{"$f":"'2月'!E14","v":{"v":0,"d":"¥0"}}]
["2月",{"$f":"'2月'!D15","v":"63介護費用"},{"$f":"'2月'!E15","v":{"v":0,"d":"¥0"}}]
["2月",{"$f":"'2月'!D16","v":"64弁護士費用"},{"$f":"'2月'!E16","v":{"v":0,"d":"¥0"}}]
["2月",{"$f":"'2月'!D17","v":"65家財道具"},{"$f":"'2月'!E17","v":{"v":0,"d":"¥0"}}]
["2月",{"$f":"'2月'!D18","v":"66役所"},{"$f":"'2月'!E18","v":{"v":0,"d":"¥0"}}]
["2月",{"$f":"'2月'!D19","v":"67散髪代"},{"$f":"'2月'!E19","v":{"v":0,"d":"¥0"}}]
["2月",{"$f":"'2月'!D20","v":"68税金"},{"$f":"'2月'!E20","v":{"v":0,"d":"¥0"}}]
["3月",{"$f":"'3月'!A2","v":"01給料（自分）"},{"$f":"'3月'!B2","v":{"v":0,"d":"¥0"}}]
["3月",{"$f":"'3月'!A3","v":"02給料（同居者）"},{"$f":"'3月'!B3","v":{"v":0,"d":"¥0"}}]
["3月",{"$f":"'3月'!A4","v":"03自営収入（自分）"},{"$f":"'3月'!B4","v":{"v":0,"d":"¥0"}}]
["3月",{"$f":"'3月'!A5","v":"04自営収入（同居者）"},{"$f":"'3月'!B5","v":{"v":0,"d":"¥0"}}]
["3月",{"$f":"'3月'!A6","v":"05年金（自分）"},{"$f":"'3月'!B6","v":{"v":0,"d":"¥0"}}]
["3月",{"$f":"'3月'!A7","v":"06年金（同居者）"},{"$f":"'3月'!B7","v":{"v":0,"d":"¥0"}}]
["3月",{"$f":"'3月'!A8","v":"07生活保護（世帯分）"},{"$f":"'3月'!B8","v":{"v":0,"d":"¥0"}}]
["3月",{"$f":"'3月'!A9","v":"08失業保険（自分）"},{"$f":"'3月'!B9","v":{"v":0,"d":"¥0"}}]
["3月",{"$f":"'3月'!A10","v":"09失業保険（同居者）"},{"$f":"'3月'!B10","v":{"v":0,"d":"¥0"}}]
["3月",{"$f":"'3月'!A11","v":"10児童手当（世帯分）"},{"$f":"'3月'!B11","v":{"v":0,"d":"¥0"}}]
["3月",{"$f":"'3月'!A12","v":"11援助"},{"$f":"'3月'!B12","v":{"v":0,"d":"¥0"}}]
["3月",{"$f":"'3月'!A13","v":"12公的援助"},{"$f":"'3月'!B13","v":{"v":0,"d":"¥0"}}]
["3月",{"$f":"'3月'!D2","v":"50家賃・管理費"},{"$f":"'3月'!E2","v":{"v":0,"d":"¥0"}}]
["3月",{"$f":"'3月'!D3","v":"51食費"},{"$f":"'3月'!E3","v":{"v":0,"d":"¥0"}}]
["3月",{"$f":"'3月'!D4","v":"52水道・光熱費"},{"$f":"'3月'!E4","v":{"v":0,"d":"¥0"}}]
["3月",{"$f":"'3月'!D5","v":"53電話料"},{"$f":"'3月'!E5","v":{"v":0,"d":"¥0"}}]
["3月",{"$f":"'3月'!D6","v":"54衣類・日用品"},{"$f":"'3月'!E6","v":{"v":0,"d":"¥0"}}]
["3月",{"$f":"'3月'!D7","v":"55医療費"},{"$f":"'3月'!E7","v":{"v":0,"d":"¥0"}}]
["3月",{"$f":"'3月'!D8","v":"56教育費"},{"$f":"'3月'!E8","v":{"v":0,"d":"¥0"}}]
["3月",{"$f":"'3月'!D9","v":"57交際費・遊興費"},{"$f":"'3月'!E9","v":{"v":0,"d":"¥0"}}]
["3月",{"$f":"'3月'!D10","v":"58保険料"},{"$f":"'3月'!E10","v":{"v":0,"d":"¥0"}}]
["3月",{"$f":"'3月'!D11","v":"59駐車場代"},{"$f":"'3月'!E11","v":{"v":0,"d":"¥0"}}]
["3月",{"$f":"'3月'!D12","v":"60ガソリン代・灯油代"},{"$f":"'3月'!E12","v":{"v":0,"d":"¥0"}}]
["3月",{"$f":"'3月'!D13","v":"61仕事"},{"$f":"'3月'!E13","v":{"v":0,"d":"¥0"}}]
["3月",{"$f":"'3月'!D14","v":"62車代"},{"$f":"'3月'!E14","v":{"v":0,"d":"¥0"}}]
["3月",{"$f":"'3月'!D15","v":"63介護費用"},{"$f":"'3月'!E15","v":{"v":0,"d":"¥0"}}]
["3月",{"$f":"'3月'!D16","v":"64弁護士費用"},{"$f":"'3月'!E16","v":{"v":0,"d":"¥0"}}]
["3月",{"$f":"'3月'!D17","v":"65家財道具"},{"$f":"'3月'!E17","v":{"v":0,"d":"¥0"}}]
["3月",{"$f":"'3月'!D18","v":"66役所"},{"$f":"'3月'!E18","v":{"v":0,"d":"¥0"}}]
["3月",{"$f":"'3月'!D19","v":"67散髪代"},{"$f":"'3月'!E19","v":{"v":0,"d":"¥0"}}]
["3月",{"$f":"'3月'!D20","v":"68税金"},{"$f":"'3月'!E20","v":{"v":0,"d":"¥0"}}]
["4月",{"$f":"'4月'!A2","v":"01給料（自分）"},{"$f":"'4月'!B2","v":{"v":0,"d":"¥0"}}]
["4月",{"$f":"'4月'!A3","v":"02給料（同居者）"},{"$f":"'4月'!B3","v":{"v":0,"d":"¥0"}}]
["4月",{"$f":"'4月'!A4","v":"03自営収入（自分）"},{"$f":"'4月'!B4","v":{"v":0,"d":"¥0"}}]
["4月",{"$f":"'4月'!A5","v":"04自営収入（同居者）"},{"$f":"'4月'!B5","v":{"v":0,"d":"¥0"}}]
["4月",{"$f":"'4月'!A6","v":"05年金（自分）"},{"$f":"'4月'!B6","v":{"v":0,"d":"¥0"}}]
["4月",{"$f":"'4月'!A7","v":"06年金（同居者）"},{"$f":"'4月'!B7","v":{"v":0,"d":"¥0"}}]
["4月",{"$f":"'4月'!A8","v":"07生活保護（世帯分）"},{"$f":"'4月'!B8","v":{"v":0,"d":"¥0"}}]
["4月",{"$f":"'4月'!A9","v":"08失業保険（自分）"},{"$f":"'4月'!B9","v":{"v":0,"d":"¥0"}}]
["4月",{"$f":"'4月'!A10","v":"09失業保険（同居者）"},{"$f":"'4月'!B10","v":{"v":0,"d":"¥0"}}]
["4月",{"$f":"'4月'!A11","v":"10児童手当（世帯分）"},{"$f":"'4月'!B11","v":{"v":0,"d":"¥0"}}]
["4月",{"$f":"'4月'!A12","v":"11援助"},{"$f":"'4月'!B12","v":{"v":0,"d":"¥0"}}]
["4月",{"$f":"'4月'!A13","v":"12公的援助"},{"$f":"'4月'!B13","v":{"v":0,"d":"¥0"}}]
["4月",{"$f":"'4月'!D2","v":"50家賃・管理費"},{"$f":"'4月'!E2","v":{"v":0,"d":"¥0"}}]
["4月",{"$f":"'4月'!D3","v":"51食費"},{"$f":"'4月'!E3","v":{"v":0,"d":"¥0"}}]
["4月",{"$f":"'4月'!D4","v":"52水道・光熱費"},{"$f":"'4月'!E4","v":{"v":0,"d":"¥0"}}]
["4月",{"$f":"'4月'!D5","v":"53電話料"},{"$f":"'4月'!E5","v":{"v":0,"d":"¥0"}}]
["4月",{"$f":"'4月'!D6","v":"54衣類・日用品"},{"$f":"'4月'!E6","v":{"v":0,"d":"¥0"}}]
["4月",{"$f":"'4月'!D7","v":"55医療費"},{"$f":"'4月'!E7","v":{"v":0,"d":"¥0"}}]
["4月",{"$f":"'4月'!D8","v":"56教育費"},{"$f":"'4月'!E8","v":{"v":0,"d":"¥0"}}]
["4月",{"$f":"'4月'!D9","v":"57交際費・遊興費"},{"$f":"'4月'!E9","v":{"v":0,"d":"¥0"}}]
["4月",{"$f":"'4月'!D10","v":"58保険料"},{"$f":"'4月'!E10","v":{"v":0,"d":"¥0"}}]
["4月",{"$f":"'4月'!D11","v":"59駐車場代"},{"$f":"'4月'!E11","v":{"v":0,"d":"¥0"}}]
["4月",{"$f":"'4月'!D12","v":"60ガソリン代・灯油代"},{"$f":"'4月'!E12","v":{"v":0,"d":"¥0"}}]
["4月",{"$f":"'4月'!D13","v":"61仕事"},{"$f":"'4月'!E13","v":{"v":0,"d":"¥0"}}]
["4月",{"$f":"'4月'!D14","v":"62車代"},{"$f":"'4月'!E14","v":{"v":0,"d":"¥0"}}]
["4月",{"$f":"'4月'!D15","v":"63介護費用"},{"$f":"'4月'!E15","v":{"v":0,"d":"¥0"}}]
["4月",{"$f":"'4月'!D16","v":"64弁護士費用"},{"$f":"'4月'!E16","v":{"v":0,"d":"¥0"}}]
["4月",{"$f":"'4月'!D17","v":"65家財道具"},{"$f":"'4月'!E17","v":{"v":0,"d":"¥0"}}]
["4月",{"$f":"'4月'!D18","v":"66役所"},{"$f":"'4月'!E18","v":{"v":0,"d":"¥0"}}]
["4月",{"$f":"'4月'!D19","v":"67散髪代"},{"$f":"'4月'!E19","v":{"v":0,"d":"¥0"}}]
["4月",{"$f":"'4月'!D20","v":"68税金"},{"$f":"'4月'!E20","v":{"v":0,"d":"¥0"}}]
["5月",{"$f":"'5月'!A2","v":"01給料（自分）"},{"$f":"'5月'!B2","v":{"v":0,"d":"¥0"}}]
["5月",{"$f":"'5月'!A3","v":"02給料（同居者）"},{"$f":"'5月'!B3","v":{"v":0,"d":"¥0"}}]
["5月",{"$f":"'5月'!A4","v":"03自営収入（自分）"},{"$f":"'5月'!B4","v":{"v":0,"d":"¥0"}}]
["5月",{"$f":"'5月'!A5","v":"04自営収入（同居者）"},{"$f":"'5月'!B5","v":{"v":0,"d":"¥0"}}]
["5月",{"$f":"'5月'!A6","v":"05年金（自分）"},{"$f":"'5月'!B6","v":{"v":0,"d":"¥0"}}]
["5月",{"$f":"'5月'!A7","v":"06年金（同居者）"},{"$f":"'5月'!B7","v":{"v":0,"d":"¥0"}}]
["5月",{"$f":"'5月'!A8","v":"07生活保護（世帯分）"},{"$f":"'5月'!B8","v":{"v":0,"d":"¥0"}}]
["5月",{"$f":"'5月'!A9","v":"08失業保険（自分）"},{"$f":"'5月'!B9","v":{"v":0,"d":"¥0"}}]
["5月",{"$f":"'5月'!A10","v":"09失業保険（同居者）"},{"$f":"'5月'!B10","v":{"v":0,"d":"¥0"}}]
["5月",{"$f":"'5月'!A11","v":"10児童手当（世帯分）"},{"$f":"'5月'!B11","v":{"v":0,"d":"¥0"}}]
["5月",{"$f":"'5月'!A12","v":"11援助"},{"$f":"'5月'!B12","v":{"v":0,"d":"¥0"}}]
["5月",{"$f":"'5月'!A13","v":"12公的援助"},{"$f":"'5月'!B13","v":{"v":0,"d":"¥0"}}]
["5月",{"$f":"'5月'!D2","v":"50家賃・管理費"},{"$f":"'5月'!E2","v":{"v":0,"d":"¥0"}}]
["5月",{"$f":"'5月'!D3","v":"51食費"},{"$f":"'5月'!E3","v":{"v":0,"d":"¥0"}}]
["5月",{"$f":"'5月'!D4","v":"52水道・光熱費"},{"$f":"'5月'!E4","v":{"v":0,"d":"¥0"}}]
["5月",{"$f":"'5月'!D5","v":"53電話料"},{"$f":"'5月'!E5","v":{"v":0,"d":"¥0"}}]
["5月",{"$f":"'5月'!D6","v":"54衣類・日用品"},{"$f":"'5月'!E6","v":{"v":0,"d":"¥0"}}]
["5月",{"$f":"'5月'!D7","v":"55医療費"},{"$f":"'5月'!E7","v":{"v":0,"d":"¥0"}}]
["5月",{"$f":"'5月'!D8","v":"56教育費"},{"$f":"'5月'!E8","v":{"v":0,"d":"¥0"}}]
["5月",{"$f":"'5月'!D9","v":"57交際費・遊興費"},{"$f":"'5月'!E9","v":{"v":0,"d":"¥0"}}]
["5月",{"$f":"'5月'!D10","v":"58保険料"},{"$f":"'5月'!E10","v":{"v":0,"d":"¥0"}}]
["5月",{"$f":"'5月'!D11","v":"59駐車場代"},{"$f":"'5月'!E11","v":{"v":0,"d":"¥0"}}]
["5月",{"$f":"'5月'!D12","v":"60ガソリン代・灯油代"},{"$f":"'5月'!E12","v":{"v":0,"d":"¥0"}}]
["5月",{"$f":"'5月'!D13","v":"61仕事"},{"$f":"'5月'!E13","v":{"v":0,"d":"¥0"}}]
["5月",{"$f":"'5月'!D14","v":"62車代"},{"$f":"'5月'!E14","v":{"v":0,"d":"¥0"}}]
["5月",{"$f":"'5月'!D15","v":"63介護費用"},{"$f":"'5月'!E15","v":{"v":0,"d":"¥0"}}]
["5月",{"$f":"'5月'!D16","v":"64弁護士費用"},{"$f":"'5月'!E16","v":{"v":0,"d":"¥0"}}]
["5月",{"$f":"'5月'!D17","v":"65家財道具"},{"$f":"'5月'!E17","v":{"v":0,"d":"¥0"}}]
["5月",{"$f":"'5月'!D18","v":"66役所"},{"$f":"'5月'!E18","v":{"v":0,"d":"¥0"}}]
["5月",{"$f":"'5月'!D19","v":"67散髪代"},{"$f":"'5月'!E19","v":{"v":0,"d":"¥0"}}]
["5月",{"$f":"'5月'!D20","v":"68税金"},{"$f":"'5月'!E20","v":{"v":0,"d":"¥0"}}]
["6月",{"$f":"'6月'!A2","v":"01給料（自分）"},{"$f":"'6月'!B2","v":{"v":0,"d":"¥0"}}]
["6月",{"$f":"'6月'!A3","v":"02給料（同居者）"},{"$f":"'6月'!B3","v":{"v":0,"d":"¥0"}}]
["6月",{"$f":"'6月'!A4","v":"03自営収入（自分）"},{"$f":"'6月'!B4","v":{"v":0,"d":"¥0"}}]
["6月",{"$f":"'6月'!A5","v":"04自営収入（同居者）"},{"$f":"'6月'!B5","v":{"v":0,"d":"¥0"}}]
["6月",{"$f":"'6月'!A6","v":"05年金（自分）"},{"$f":"'6月'!B6","v":{"v":0,"d":"¥0"}}]
["6月",{"$f":"'6月'!A7","v":"06年金（同居者）"},{"$f":"'6月'!B7","v":{"v":0,"d":"¥0"}}]
["6月",{"$f":"'6月'!A8","v":"07生活保護（世帯分）"},{"$f":"'6月'!B8","v":{"v":0,"d":"¥0"}}]
["6月",{"$f":"'6月'!A9","v":"08失業保険（自分）"},{"$f":"'6月'!B9","v":{"v":0,"d":"¥0"}}]
["6月",{"$f":"'6月'!A10","v":"09失業保険（同居者）"},{"$f":"'6月'!B10","v":{"v":0,"d":"¥0"}}]
["6月",{"$f":"'6月'!A11","v":"10児童手当（世帯分）"},{"$f":"'6月'!B11","v":{"v":0,"d":"¥0"}}]
["6月",{"$f":"'6月'!A12","v":"11援助"},{"$f":"'6月'!B12","v":{"v":0,"d":"¥0"}}]
["6月",{"$f":"'6月'!A13","v":"12公的援助"},{"$f":"'6月'!B13","v":{"v":0,"d":"¥0"}}]
["6月",{"$f":"'6月'!D2","v":"50家賃・管理費"},{"$f":"'6月'!E2","v":{"v":0,"d":"¥0"}}]
["6月",{"$f":"'6月'!D3","v":"51食費"},{"$f":"'6月'!E3","v":{"v":0,"d":"¥0"}}]
["6月",{"$f":"'6月'!D4","v":"52水道・光熱費"},{"$f":"'6月'!E4","v":{"v":0,"d":"¥0"}}]
["6月",{"$f":"'6月'!D5","v":"53電話料"},{"$f":"'6月'!E5","v":{"v":0,"d":"¥0"}}]
["6月",{"$f":"'6月'!D6","v":"54衣類・日用品"},{"$f":"'6月'!E6","v":{"v":0,"d":"¥0"}}]
["6月",{"$f":"'6月'!D7","v":"55医療費"},{"$f":"'6月'!E7","v":{"v":0,"d":"¥0"}}]
["6月",{"$f":"'6月'!D8","v":"56教育費"},{"$f":"'6月'!E8","v":{"v":0,"d":"¥0"}}]
["6月",{"$f":"'6月'!D9","v":"57交際費・遊興費"},{"$f":"'6月'!E9","v":{"v":0,"d":"¥0"}}]
["6月",{"$f":"'6月'!D10","v":"58保険料"},{"$f":"'6月'!E10","v":{"v":0,"d":"¥0"}}]
["6月",{"$f":"'6月'!D11","v":"59駐車場代"},{"$f":"'6月'!E11","v":{"v":0,"d":"¥0"}}]
["6月",{"$f":"'6月'!D12","v":"60ガソリン代・灯油代"},{"$f":"'6月'!E12","v":{"v":0,"d":"¥0"}}]
["6月",{"$f":"'6月'!D13","v":"61仕事"},{"$f":"'6月'!E13","v":{"v":0,"d":"¥0"}}]
["6月",{"$f":"'6月'!D14","v":"62車代"},{"$f":"'6月'!E14","v":{"v":0,"d":"¥0"}}]
["6月",{"$f":"'6月'!D15","v":"63介護費用"},{"$f":"'6月'!E15","v":{"v":0,"d":"¥0"}}]
["6月",{"$f":"'6月'!D16","v":"64弁護士費用"},{"$f":"'6月'!E16","v":{"v":0,"d":"¥0"}}]
["6月",{"$f":"'6月'!D17","v":"65家財道具"},{"$f":"'6月'!E17","v":{"v":0,"d":"¥0"}}]
["6月",{"$f":"'6月'!D18","v":"66役所"},{"$f":"'6月'!E18","v":{"v":0,"d":"¥0"}}]
["6月",{"$f":"'6月'!D19","v":"67散髪代"},{"$f":"'6月'!E19","v":{"v":0,"d":"¥0"}}]
["6月",{"$f":"'6月'!D20","v":"68税金"},{"$f":"'6月'!E20","v":{"v":0,"d":"¥0"}}]
["7月",{"$f":"'7月'!A2","v":"01給料（自分）"},{"$f":"'7月'!B2","v":{"v":0,"d":"¥0"}}]
["7月",{"$f":"'7月'!A3","v":"02給料（同居者）"},{"$f":"'7月'!B3","v":{"v":0,"d":"¥0"}}]
["7月",{"$f":"'7月'!A4","v":"03自営収入（自分）"},{"$f":"'7月'!B4","v":{"v":0,"d":"¥0"}}]
["7月",{"$f":"'7月'!A5","v":"04自営収入（同居者）"},{"$f":"'7月'!B5","v":{"v":0,"d":"¥0"}}]
["7月",{"$f":"'7月'!A6","v":"05年金（自分）"},{"$f":"'7月'!B6","v":{"v":0,"d":"¥0"}}]
["7月",{"$f":"'7月'!A7","v":"06年金（同居者）"},{"$f":"'7月'!B7","v":{"v":0,"d":"¥0"}}]
["7月",{"$f":"'7月'!A8","v":"07生活保護（世帯分）"},{"$f":"'7月'!B8","v":{"v":0,"d":"¥0"}}]
["7月",{"$f":"'7月'!A9","v":"08失業保険（自分）"},{"$f":"'7月'!B9","v":{"v":0,"d":"¥0"}}]
["7月",{"$f":"'7月'!A10","v":"09失業保険（同居者）"},{"$f":"'7月'!B10","v":{"v":0,"d":"¥0"}}]
["7月",{"$f":"'7月'!A11","v":"10児童手当（世帯分）"},{"$f":"'7月'!B11","v":{"v":0,"d":"¥0"}}]
["7月",{"$f":"'7月'!A12","v":"11援助"},{"$f":"'7月'!B12","v":{"v":0,"d":"¥0"}}]
["7月",{"$f":"'7月'!A13","v":"12公的援助"},{"$f":"'7月'!B13","v":{"v":0,"d":"¥0"}}]
["7月",{"$f":"'7月'!D2","v":"50家賃・管理費"},{"$f":"'7月'!E2","v":{"v":0,"d":"¥0"}}]
["7月",{"$f":"'7月'!D3","v":"51食費"},{"$f":"'7月'!E3","v":{"v":0,"d":"¥0"}}]
["7月",{"$f":"'7月'!D4","v":"52水道・光熱費"},{"$f":"'7月'!E4","v":{"v":0,"d":"¥0"}}]
["7月",{"$f":"'7月'!D5","v":"53電話料"},{"$f":"'7月'!E5","v":{"v":0,"d":"¥0"}}]
["7月",{"$f":"'7月'!D6","v":"54衣類・日用品"},{"$f":"'7月'!E6","v":{"v":0,"d":"¥0"}}]
["7月",{"$f":"'7月'!D7","v":"55医療費"},{"$f":"'7月'!E7","v":{"v":0,"d":"¥0"}}]
["7月",{"$f":"'7月'!D8","v":"56教育費"},{"$f":"'7月'!E8","v":{"v":0,"d":"¥0"}}]
["7月",{"$f":"'7月'!D9","v":"57交際費・遊興費"},{"$f":"'7月'!E9","v":{"v":0,"d":"¥0"}}]
["7月",{"$f":"'7月'!D10","v":"58保険料"},{"$f":"'7月'!E10","v":{"v":0,"d":"¥0"}}]
["7月",{"$f":"'7月'!D11","v":"59駐車場代"},{"$f":"'7月'!E11","v":{"v":0,"d":"¥0"}}]
["7月",{"$f":"'7月'!D12","v":"60ガソリン代・灯油代"},{"$f":"'7月'!E12","v":{"v":0,"d":"¥0"}}]
["7月",{"$f":"'7月'!D13","v":"61仕事"},{"$f":"'7月'!E13","v":{"v":0,"d":"¥0"}}]
["7月",{"$f":"'7月'!D14","v":"62車代"},{"$f":"'7月'!E14","v":{"v":0,"d":"¥0"}}]
["7月",{"$f":"'7月'!D15","v":"63介護費用"},{"$f":"'7月'!E15","v":{"v":0,"d":"¥0"}}]
["7月",{"$f":"'7月'!D16","v":"64弁護士費用"},{"$f":"'7月'!E16","v":{"v":0,"d":"¥0"}}]
["7月",{"$f":"'7月'!D17","v":"65家財道具"},{"$f":"'7月'!E17","v":{"v":0,"d":"¥0"}}]
["7月",{"$f":"'7月'!D18","v":"66役所"},{"$f":"'7月'!E18","v":{"v":0,"d":"¥0"}}]
["7月",{"$f":"'7月'!D19","v":"67散髪代"},{"$f":"'7月'!E19","v":{"v":0,"d":"¥0"}}]
["7月",{"$f":"'7月'!D20","v":"68税金"},{"$f":"'7月'!E20","v":{"v":0,"d":"¥0"}}]
["8月",{"$f":"'8月'!A2","v":"01給料（自分）"},{"$f":"'8月'!B2","v":{"v":0,"d":"¥0"}}]
["8月",{"$f":"'8月'!A3","v":"02給料（同居者）"},{"$f":"'8月'!B3","v":{"v":0,"d":"¥0"}}]
["8月",{"$f":"'8月'!A4","v":"03自営収入（自分）"},{"$f":"'8月'!B4","v":{"v":0,"d":"¥0"}}]
["8月",{"$f":"'8月'!A5","v":"04自営収入（同居者）"},{"$f":"'8月'!B5","v":{"v":0,"d":"¥0"}}]
["8月",{"$f":"'8月'!A6","v":"05年金（自分）"},{"$f":"'8月'!B6","v":{"v":0,"d":"¥0"}}]
["8月",{"$f":"'8月'!A7","v":"06年金（同居者）"},{"$f":"'8月'!B7","v":{"v":0,"d":"¥0"}}]
["8月",{"$f":"'8月'!A8","v":"07生活保護（世帯分）"},{"$f":"'8月'!B8","v":{"v":0,"d":"¥0"}}]
["8月",{"$f":"'8月'!A9","v":"08失業保険（自分）"},{"$f":"'8月'!B9","v":{"v":0,"d":"¥0"}}]
["8月",{"$f":"'8月'!A10","v":"09失業保険（同居者）"},{"$f":"'8月'!B10","v":{"v":0,"d":"¥0"}}]
["8月",{"$f":"'8月'!A11","v":"10児童手当（世帯分）"},{"$f":"'8月'!B11","v":{"v":0,"d":"¥0"}}]
["8月",{"$f":"'8月'!A12","v":"11援助"},{"$f":"'8月'!B12","v":{"v":0,"d":"¥0"}}]
["8月",{"$f":"'8月'!A13","v":"12公的援助"},{"$f":"'8月'!B13","v":{"v":0,"d":"¥0"}}]
["8月",{"$f":"'8月'!D2","v":"50家賃・管理費"},{"$f":"'8月'!E2","v":{"v":0,"d":"¥0"}}]
["8月",{"$f":"'8月'!D3","v":"51食費"},{"$f":"'8月'!E3","v":{"v":0,"d":"¥0"}}]
["8月",{"$f":"'8月'!D4","v":"52水道・光熱費"},{"$f":"'8月'!E4","v":{"v":0,"d":"¥0"}}]
["8月",{"$f":"'8月'!D5","v":"53電話料"},{"$f":"'8月'!E5","v":{"v":0,"d":"¥0"}}]
["8月",{"$f":"'8月'!D6","v":"54衣類・日用品"},{"$f":"'8月'!E6","v":{"v":0,"d":"¥0"}}]
["8月",{"$f":"'8月'!D7","v":"55医療費"},{"$f":"'8月'!E7","v":{"v":0,"d":"¥0"}}]
["8月",{"$f":"'8月'!D8","v":"56教育費"},{"$f":"'8月'!E8","v":{"v":0,"d":"¥0"}}]
["8月",{"$f":"'8月'!D9","v":"57交際費・遊興費"},{"$f":"'8月'!E9","v":{"v":0,"d":"¥0"}}]
["8月",{"$f":"'8月'!D10","v":"58保険料"},{"$f":"'8月'!E10","v":{"v":0,"d":"¥0"}}]
["8月",{"$f":"'8月'!D11","v":"59駐車場代"},{"$f":"'8月'!E11","v":{"v":0,"d":"¥0"}}]
["8月",{"$f":"'8月'!D12","v":"60ガソリン代・灯油代"},{"$f":"'8月'!E12","v":{"v":0,"d":"¥0"}}]
["8月",{"$f":"'8月'!D13","v":"61仕事"},{"$f":"'8月'!E13","v":{"v":0,"d":"¥0"}}]
["8月",{"$f":"'8月'!D14","v":"62車代"},{"$f":"'8月'!E14","v":{"v":0,"d":"¥0"}}]
["8月",{"$f":"'8月'!D15","v":"63介護費用"},{"$f":"'8月'!E15","v":{"v":0,"d":"¥0"}}]
["8月",{"$f":"'8月'!D16","v":"64弁護士費用"},{"$f":"'8月'!E16","v":{"v":0,"d":"¥0"}}]
["8月",{"$f":"'8月'!D17","v":"65家財道具"},{"$f":"'8月'!E17","v":{"v":0,"d":"¥0"}}]
["8月",{"$f":"'8月'!D18","v":"66役所"},{"$f":"'8月'!E18","v":{"v":0,"d":"¥0"}}]
["8月",{"$f":"'8月'!D19","v":"67散髪代"},{"$f":"'8月'!E19","v":{"v":0,"d":"¥0"}}]
["8月",{"$f":"'8月'!D20","v":"68税金"},{"$f":"'8月'!E20","v":{"v":0,"d":"¥0"}}]
["9月",{"$f":"'9月'!A2","v":"01給料（自分）"},{"$f":"'9月'!B2","v":{"v":0,"d":"¥0"}}]
["9月",{"$f":"'9月'!A3","v":"02給料（同居者）"},{"$f":"'9月'!B3","v":{"v":0,"d":"¥0"}}]
["9月",{"$f":"'9月'!A4","v":"03自営収入（自分）"},{"$f":"'9月'!B4","v":{"v":0,"d":"¥0"}}]
["9月",{"$f":"'9月'!A5","v":"04自営収入（同居者）"},{"$f":"'9月'!B5","v":{"v":0,"d":"¥0"}}]
["9月",{"$f":"'9月'!A6","v":"05年金（自分）"},{"$f":"'9月'!B6","v":{"v":0,"d":"¥0"}}]
["9月",{"$f":"'9月'!A7","v":"06年金（同居者）"},{"$f":"'9月'!B7","v":{"v":0,"d":"¥0"}}]
["9月",{"$f":"'9月'!A8","v":"07生活保護（世帯分）"},{"$f":"'9月'!B8","v":{"v":0,"d":"¥0"}}]
["9月",{"$f":"'9月'!A9","v":"08失業保険（自分）"},{"$f":"'9月'!B9","v":{"v":0,"d":"¥0"}}]
["9月",{"$f":"'9月'!A10","v":"09失業保険（同居者）"},{"$f":"'9月'!B10","v":{"v":0,"d":"¥0"}}]
["9月",{"$f":"'9月'!A11","v":"10児童手当（世帯分）"},{"$f":"'9月'!B11","v":{"v":0,"d":"¥0"}}]
["9月",{"$f":"'9月'!A12","v":"11援助"},{"$f":"'9月'!B12","v":{"v":0,"d":"¥0"}}]
["9月",{"$f":"'9月'!A13","v":"12公的援助"},{"$f":"'9月'!B13","v":{"v":0,"d":"¥0"}}]
["9月",{"$f":"'9月'!D2","v":"50家賃・管理費"},{"$f":"'9月'!E2","v":{"v":0,"d":"¥0"}}]
["9月",{"$f":"'9月'!D3","v":"51食費"},{"$f":"'9月'!E3","v":{"v":0,"d":"¥0"}}]
["9月",{"$f":"'9月'!D4","v":"52水道・光熱費"},{"$f":"'9月'!E4","v":{"v":0,"d":"¥0"}}]
["9月",{"$f":"'9月'!D5","v":"53電話料"},{"$f":"'9月'!E5","v":{"v":0,"d":"¥0"}}]
["9月",{"$f":"'9月'!D6","v":"54衣類・日用品"},{"$f":"'9月'!E6","v":{"v":0,"d":"¥0"}}]
["9月",{"$f":"'9月'!D7","v":"55医療費"},{"$f":"'9月'!E7","v":{"v":0,"d":"¥0"}}]
["9月",{"$f":"'9月'!D8","v":"56教育費"},{"$f":"'9月'!E8","v":{"v":0,"d":"¥0"}}]
["9月",{"$f":"'9月'!D9","v":"57交際費・遊興費"},{"$f":"'9月'!E9","v":{"v":0,"d":"¥0"}}]
["9月",{"$f":"'9月'!D10","v":"58保険料"},{"$f":"'9月'!E10","v":{"v":0,"d":"¥0"}}]
["9月",{"$f":"'9月'!D11","v":"59駐車場代"},{"$f":"'9月'!E11","v":{"v":0,"d":"¥0"}}]
["9月",{"$f":"'9月'!D12","v":"60ガソリン代・灯油代"},{"$f":"'9月'!E12","v":{"v":0,"d":"¥0"}}]
["9月",{"$f":"'9月'!D13","v":"61仕事"},{"$f":"'9月'!E13","v":{"v":0,"d":"¥0"}}]
["9月",{"$f":"'9月'!D14","v":"62車代"},{"$f":"'9月'!E14","v":{"v":0,"d":"¥0"}}]
["9月",{"$f":"'9月'!D15","v":"63介護費用"},{"$f":"'9月'!E15","v":{"v":0,"d":"¥0"}}]
["9月",{"$f":"'9月'!D16","v":"64弁護士費用"},{"$f":"'9月'!E16","v":{"v":0,"d":"¥0"}}]
["9月",{"$f":"'9月'!D17","v":"65家財道具"},{"$f":"'9月'!E17","v":{"v":0,"d":"¥0"}}]
["9月",{"$f":"'9月'!D18","v":"66役所"},{"$f":"'9月'!E18","v":{"v":0,"d":"¥0"}}]
["9月",{"$f":"'9月'!D19","v":"67散髪代"},{"$f":"'9月'!E19","v":{"v":0,"d":"¥0"}}]
["9月",{"$f":"'9月'!D20","v":"68税金"},{"$f":"'9月'!E20","v":{"v":0,"d":"¥0"}}]
["10月",{"$f":"'10月'!A2","v":"01給料（自分）"},{"$f":"'10月'!B2","v":{"v":0,"d":"¥0"}}]
["10月",{"$f":"'10月'!A3","v":"02給料（同居者）"},{"$f":"'10月'!B3","v":{"v":0,"d":"¥0"}}]
["10月",{"$f":"'10月'!A4","v":"03自営収入（自分）"},{"$f":"'10月'!B4","v":{"v":0,"d":"¥0"}}]
["10月",{"$f":"'10月'!A5","v":"04自営収入（同居者）"},{"$f":"'10月'!B5","v":{"v":0,"d":"¥0"}}]
["10月",{"$f":"'10月'!A6","v":"05年金（自分）"},{"$f":"'10月'!B6","v":{"v":0,"d":"¥0"}}]
["10月",{"$f":"'10月'!A7","v":"06年金（同居者）"},{"$f":"'10月'!B7","v":{"v":0,"d":"¥0"}}]
["10月",{"$f":"'10月'!A8","v":"07生活保護（世帯分）"},{"$f":"'10月'!B8","v":{"v":0,"d":"¥0"}}]
["10月",{"$f":"'10月'!A9","v":"08失業保険（自分）"},{"$f":"'10月'!B9","v":{"v":0,"d":"¥0"}}]
["10月",{"$f":"'10月'!A10","v":"09失業保険（同居者）"},{"$f":"'10月'!B10","v":{"v":0,"d":"¥0"}}]
["10月",{"$f":"'10月'!A11","v":"10児童手当（世帯分）"},{"$f":"'10月'!B11","v":{"v":0,"d":"¥0"}}]
["10月",{"$f":"'10月'!A12","v":"11援助"},{"$f":"'10月'!B12","v":{"v":0,"d":"¥0"}}]
["10月",{"$f":"'10月'!A13","v":"12公的援助"},{"$f":"'10月'!B13","v":{"v":0,"d":"¥0"}}]
["10月",{"$f":"'10月'!D2","v":"50家賃・管理費"},{"$f":"'10月'!E2","v":{"v":0,"d":"¥0"}}]
["10月",{"$f":"'10月'!D3","v":"51食費"},{"$f":"'10月'!E3","v":{"v":0,"d":"¥0"}}]
["10月",{"$f":"'10月'!D4","v":"52水道・光熱費"},{"$f":"'10月'!E4","v":{"v":0,"d":"¥0"}}]
["10月",{"$f":"'10月'!D5","v":"53電話料"},{"$f":"'10月'!E5","v":{"v":0,"d":"¥0"}}]
["10月",{"$f":"'10月'!D6","v":"54衣類・日用品"},{"$f":"'10月'!E6","v":{"v":0,"d":"¥0"}}]
["10月",{"$f":"'10月'!D7","v":"55医療費"},{"$f":"'10月'!E7","v":{"v":0,"d":"¥0"}}]
["10月",{"$f":"'10月'!D8","v":"56教育費"},{"$f":"'10月'!E8","v":{"v":0,"d":"¥0"}}]
["10月",{"$f":"'10月'!D9","v":"57交際費・遊興費"},{"$f":"'10月'!E9","v":{"v":0,"d":"¥0"}}]
["10月",{"$f":"'10月'!D10","v":"58保険料"},{"$f":"'10月'!E10","v":{"v":0,"d":"¥0"}}]
["10月",{"$f":"'10月'!D11","v":"59駐車場代"},{"$f":"'10月'!E11","v":{"v":0,"d":"¥0"}}]
["10月",{"$f":"'10月'!D12","v":"60ガソリン代・灯油代"},{"$f":"'10月'!E12","v":{"v":0,"d":"¥0"}}]
["10月",{"$f":"'10月'!D13","v":"61仕事"},{"$f":"'10月'!E13","v":{"v":0,"d":"¥0"}}]
["10月",{"$f":"'10月'!D14","v":"62車代"},{"$f":"'10月'!E14","v":{"v":0,"d":"¥0"}}]
["10月",{"$f":"'10月'!D15","v":"63介護費用"},{"$f":"'10月'!E15","v":{"v":0,"d":"¥0"}}]
["10月",{"$f":"'10月'!D16","v":"64弁護士費用"},{"$f":"'10月'!E16","v":{"v":0,"d":"¥0"}}]
["10月",{"$f":"'10月'!D17","v":"65家財道具"},{"$f":"'10月'!E17","v":{"v":0,"d":"¥0"}}]
["10月",{"$f":"'10月'!D18","v":"66役所"},{"$f":"'10月'!E18","v":{"v":0,"d":"¥0"}}]
["10月",{"$f":"'10月'!D19","v":"67散髪代"},{"$f":"'10月'!E19","v":{"v":0,"d":"¥0"}}]
["10月",{"$f":"'10月'!D20","v":"68税金"},{"$f":"'10月'!E20","v":{"v":0,"d":"¥0"}}]
["11月",{"$f":"'11月'!A2","v":"01給料（自分）"},{"$f":"'11月'!B2","v":{"v":0,"d":"¥0"}}]
["11月",{"$f":"'11月'!A3","v":"02給料（同居者）"},{"$f":"'11月'!B3","v":{"v":0,"d":"¥0"}}]
["11月",{"$f":"'11月'!A4","v":"03自営収入（自分）"},{"$f":"'11月'!B4","v":{"v":0,"d":"¥0"}}]
["11月",{"$f":"'11月'!A5","v":"04自営収入（同居者）"},{"$f":"'11月'!B5","v":{"v":0,"d":"¥0"}}]
["11月",{"$f":"'11月'!A6","v":"05年金（自分）"},{"$f":"'11月'!B6","v":{"v":0,"d":"¥0"}}]
["11月",{"$f":"'11月'!A7","v":"06年金（同居者）"},{"$f":"'11月'!B7","v":{"v":0,"d":"¥0"}}]
["11月",{"$f":"'11月'!A8","v":"07生活保護（世帯分）"},{"$f":"'11月'!B8","v":{"v":0,"d":"¥0"}}]
["11月",{"$f":"'11月'!A9","v":"08失業保険（自分）"},{"$f":"'11月'!B9","v":{"v":0,"d":"¥0"}}]
["11月",{"$f":"'11月'!A10","v":"09失業保険（同居者）"},{"$f":"'11月'!B10","v":{"v":0,"d":"¥0"}}]
["11月",{"$f":"'11月'!A11","v":"10児童手当（世帯分）"},{"$f":"'11月'!B11","v":{"v":0,"d":"¥0"}}]
["11月",{"$f":"'11月'!A12","v":"11援助"},{"$f":"'11月'!B12","v":{"v":0,"d":"¥0"}}]
["11月",{"$f":"'11月'!A13","v":"12公的援助"},{"$f":"'11月'!B13","v":{"v":0,"d":"¥0"}}]
["11月",{"$f":"'11月'!D2","v":"50家賃・管理費"},{"$f":"'11月'!E2","v":{"v":0,"d":"¥0"}}]
["11月",{"$f":"'11月'!D3","v":"51食費"},{"$f":"'11月'!E3","v":{"v":0,"d":"¥0"}}]
["11月",{"$f":"'11月'!D4","v":"52水道・光熱費"},{"$f":"'11月'!E4","v":{"v":0,"d":"¥0"}}]
["11月",{"$f":"'11月'!D5","v":"53電話料"},{"$f":"'11月'!E5","v":{"v":0,"d":"¥0"}}]
["11月",{"$f":"'11月'!D6","v":"54衣類・日用品"},{"$f":"'11月'!E6","v":{"v":0,"d":"¥0"}}]
["11月",{"$f":"'11月'!D7","v":"55医療費"},{"$f":"'11月'!E7","v":{"v":0,"d":"¥0"}}]
["11月",{"$f":"'11月'!D8","v":"56教育費"},{"$f":"'11月'!E8","v":{"v":0,"d":"¥0"}}]
["11月",{"$f":"'11月'!D9","v":"57交際費・遊興費"},{"$f":"'11月'!E9","v":{"v":0,"d":"¥0"}}]
["11月",{"$f":"'11月'!D10","v":"58保険料"},{"$f":"'11月'!E10","v":{"v":0,"d":"¥0"}}]
["11月",{"$f":"'11月'!D11","v":"59駐車場代"},{"$f":"'11月'!E11","v":{"v":0,"d":"¥0"}}]
["11月",{"$f":"'11月'!D12","v":"60ガソリン代・灯油代"},{"$f":"'11月'!E12","v":{"v":0,"d":"¥0"}}]
["11月",{"$f":"'11月'!D13","v":"61仕事"},{"$f":"'11月'!E13","v":{"v":0,"d":"¥0"}}]
["11月",{"$f":"'11月'!D14","v":"62車代"},{"$f":"'11月'!E14","v":{"v":0,"d":"¥0"}}]
["11月",{"$f":"'11月'!D15","v":"63介護費用"},{"$f":"'11月'!E15","v":{"v":0,"d":"¥0"}}]
["11月",{"$f":"'11月'!D16","v":"64弁護士費用"},{"$f":"'11月'!E16","v":{"v":0,"d":"¥0"}}]
["11月",{"$f":"'11月'!D17","v":"65家財道具"},{"$f":"'11月'!E17","v":{"v":0,"d":"¥0"}}]
["11月",{"$f":"'11月'!D18","v":"66役所"},{"$f":"'11月'!E18","v":{"v":0,"d":"¥0"}}]
["11月",{"$f":"'11月'!D19","v":"67散髪代"},{"$f":"'11月'!E19","v":{"v":0,"d":"¥0"}}]
["11月",{"$f":"'11月'!D20","v":"68税金"},{"$f":"'11月'!E20","v":{"v":0,"d":"¥0"}}]
["12月",{"$f":"'12月'!A2","v":"01給料（自分）"},{"$f":"'12月'!B2","v":{"v":0,"d":"¥0"}}]
["12月",{"$f":"'12月'!A3","v":"02給料（同居者）"},{"$f":"'12月'!B3","v":{"v":0,"d":"¥0"}}]
["12月",{"$f":"'12月'!A4","v":"03自営収入（自分）"},{"$f":"'12月'!B4","v":{"v":0,"d":"¥0"}}]
["12月",{"$f":"'12月'!A5","v":"04自営収入（同居者）"},{"$f":"'12月'!B5","v":{"v":0,"d":"¥0"}}]
["12月",{"$f":"'12月'!A6","v":"05年金（自分）"},{"$f":"'12月'!B6","v":{"v":0,"d":"¥0"}}]
["12月",{"$f":"'12月'!A7","v":"06年金（同居者）"},{"$f":"'12月'!B7","v":{"v":0,"d":"¥0"}}]
["12月",{"$f":"'12月'!A8","v":"07生活保護（世帯分）"},{"$f":"'12月'!B8","v":{"v":0,"d":"¥0"}}]
["12月",{"$f":"'12月'!A9","v":"08失業保険（自分）"},{"$f":"'12月'!B9","v":{"v":0,"d":"¥0"}}]
["12月",{"$f":"'12月'!A10","v":"09失業保険（同居者）"},{"$f":"'12月'!B10","v":{"v":0,"d":"¥0"}}]
["12月",{"$f":"'12月'!A11","v":"10児童手当（世帯分）"},{"$f":"'12月'!B11","v":{"v":0,"d":"¥0"}}]
["12月",{"$f":"'12月'!A12","v":"11援助"},{"$f":"'12月'!B12","v":{"v":0,"d":"¥0"}}]
["12月",{"$f":"'12月'!A13","v":"12公的援助"},{"$f":"'12月'!B13","v":{"v":0,"d":"¥0"}}]
["12月",{"$f":"'12月'!D2","v":"50家賃・管理費"},{"$f":"'12月'!E2","v":{"v":0,"d":"¥0"}}]
["12月",{"$f":"'12月'!D3","v":"51食費"},{"$f":"'12月'!E3","v":{"v":0,"d":"¥0"}}]
["12月",{"$f":"'12月'!D4","v":"52水道・光熱費"},{"$f":"'12月'!E4","v":{"v":0,"d":"¥0"}}]
["12月",{"$f":"'12月'!D5","v":"53電話料"},{"$f":"'12月'!E5","v":{"v":0,"d":"¥0"}}]
["12月",{"$f":"'12月'!D6","v":"54衣類・日用品"},{"$f":"'12月'!E6","v":{"v":0,"d":"¥0"}}]
["12月",{"$f":"'12月'!D7","v":"55医療費"},{"$f":"'12月'!E7","v":{"v":0,"d":"¥0"}}]
["12月",{"$f":"'12月'!D8","v":"56教育費"},{"$f":"'12月'!E8","v":{"v":0,"d":"¥0"}}]
["12月",{"$f":"'12月'!D9","v":"57交際費・遊興費"},{"$f":"'12月'!E9","v":{"v":0,"d":"¥0"}}]
["12月",{"$f":"'12月'!D10","v":"58保険料"},{"$f":"'12月'!E10","v":{"v":0,"d":"¥0"}}]
["12月",{"$f":"'12月'!D11","v":"59駐車場代"},{"$f":"'12月'!E11","v":{"v":0,"d":"¥0"}}]
["12月",{"$f":"'12月'!D12","v":"60ガソリン代・灯油代"},{"$f":"'12月'!E12","v":{"v":0,"d":"¥0"}}]
["12月",{"$f":"'12月'!D13","v":"61仕事"},{"$f":"'12月'!E13","v":{"v":0,"d":"¥0"}}]
["12月",{"$f":"'12月'!D14","v":"62車代"},{"$f":"'12月'!E14","v":{"v":0,"d":"¥0"}}]
["12月",{"$f":"'12月'!D15","v":"63介護費用"},{"$f":"'12月'!E15","v":{"v":0,"d":"¥0"}}]
["12月",{"$f":"'12月'!D16","v":"64弁護士費用"},{"$f":"'12月'!E16","v":{"v":0,"d":"¥0"}}]
["12月",{"$f":"'12月'!D17","v":"65家財道具"},{"$f":"'12月'!E17","v":{"v":0,"d":"¥0"}}]
["12月",{"$f":"'12月'!D18","v":"66役所"},{"$f":"'12月'!E18","v":{"v":0,"d":"¥0"}}]
["12月",{"$f":"'12月'!D19","v":"67散髪代"},{"$f":"'12月'!E19","v":{"v":0,"d":"¥0"}}]
["12月",{"$f":"'12月'!D20","v":"68税金"},{"$f":"'12月'!E20","v":{"v":0,"d":"¥0"}}]

{"sheet":"ひな形","index":3,"n_rows":27,"n_cols":43,"rows_kept":27}
[{"$nulls":7},"支払い合計",{"$f":"-SUM(I3:I1048576)","v":{"v":0,"d":"¥0"}},{"$f":"-SUM(J3:J1048576)","v":{"v":0,"d":"¥0"}},{"v":0,"d":"¥0"},{"v":0,"d":"¥0"},{"v":0,"d":"¥0"},{"v":0,"d":"¥0"},{"v":0,"d":"¥0"},{"v":0,"d":"¥0"},{"v":0,"d":"¥0"},{"v":0,"d":"¥0"},{"v":0,"d":"¥0"},{"v":0,"d":"¥0"},{"v":0,"d":"¥0"},{"v":0,"d":"¥0"},{"v":0,"d":"¥0"},{"v":0,"d":"¥0"},{"v":0,"d":"¥0"},{"v":0,"d":"¥0"},{"v":0,"d":"¥0"},{"$f":"SUM(I1:AA1)","v":{"v":0,"d":"¥0"}},null,"収入合計",{"$f":"SUM(AE3:AE1048576)","v":{"v":0,"d":"¥0"}},{"$f":"SUM(AF3:AF1048576)","v":{"v":0,"d":"¥0"}},{"v":0,"d":"¥0"},{"v":0,"d":"¥0"},{"v":0,"d":"¥0"},{"v":0,"d":"¥0"},{"v":0,"d":"¥0"},{"v":0,"d":"¥0"},{"v":0,"d":"¥0"},{"v":0,"d":"¥0"},{"v":0,"d":"¥0"},{"v":0,"d":"¥0"},{"$f":"SUM(AE1:AP1)","v":{"v":0,"d":"¥0"}}]
["01給料（自分）",{"$f":"AE1","v":{"v":0,"d":"¥0"}},null,"50家賃・管理費",{"$f":"I1","v":{"v":0,"d":"¥0"}},null,"介護支援",null,{"$f":"D2","v":"50家賃・管理費"},{"$f":"D3","v":"51食費"},{"$f":"D4","v":"52水道・光熱費"},{"$f":"D5","v":"53電話料"},{"$f":"D6","v":"54衣類・日用品"},{"$f":"D7","v":"55医療費"},{"$f":"D8","v":"56教育費"},{"$f":"D9","v":"57交際費・遊興費"},{"$f":"D10","v":"58保険料"},{"$f":"D11","v":"59駐車場代"},{"$f":"D12","v":"60ガソリン代・灯油代"},{"$f":"D13","v":"61仕事"},{"$f":"D14","v":"62車代"},{"$f":"D15","v":"63介護費用"},{"$f":"D16","v":"64弁護士費用"},{"$f":"D17","v":"65家財道具"},{"$f":"D18","v":"66役所"},{"$f":"D19","v":"67散髪代"},{"$f":"D20","v":"68税金"},{"$nulls":3},{"$f":"A2","v":"01給料（自分）"},{"$f":"A3","v":"02給料（同居者）"},{"$f":"A4","v":"03自営収入（自分）"},{"$f":"A5","v":"04自営収入（同居者）"},{"$f":"A6","v":"05年金（自分）"},{"$f":"A7","v":"06年金（同居者）"},{"$f":"A8","v":"07生活保護（世帯分）"},{"$f":"A9","v":"08失業保険（自分）"},{"$f":"A10","v":"09失業保険（同居者）"},{"$f":"A11","v":"10児童手当（世帯分）"},{"$f":"A12","v":"11援助"},{"$f":"A13","v":"12公的援助"}]
["02給料（同居者）",{"$f":"AF1","v":{"v":0,"d":"¥0"}},null,"51食費",{"$f":"J1","v":{"v":0,"d":"¥0"}}]
["03自営収入（自分）",{"$f":"AG1","v":{"v":0,"d":"¥0"}},null,"52水道・光熱費",{"$f":"K1","v":{"v":0,"d":"¥0"}}]
["04自営収入（同居者）",{"$f":"AH1","v":{"v":0,"d":"¥0"}},null,"53電話料",{"$f":"L1","v":{"v":0,"d":"¥0"}}]
["05年金（自分）",{"$f":"AI1","v":{"v":0,"d":"¥0"}},null,"54衣類・日用品",{"$f":"M1","v":{"v":0,"d":"¥0"}}]
["06年金（同居者）",{"$f":"AJ1","v":{"v":0,"d":"¥0"}},null,"55医療費",{"$f":"N1","v":{"v":0,"d":"¥0"}}]
["07生活保護（世帯分）",{"$f":"AK1","v":{"v":0,"d":"¥0"}},null,"56教育費",{"$f":"O1","v":{"v":0,"d":"¥0"}}]
["08失業保険（自分）",{"$f":"AL1","v":{"v":0,"d":"¥0"}},null,"57交際費・遊興費",{"$f":"P1","v":{"v":0,"d":"¥0"}}]
["09失業保険（同居者）",{"$f":"AM1","v":{"v":0,"d":"¥0"}},null,"58保険料",{"$f":"Q1","v":{"v":0,"d":"¥0"}}]
["10児童手当（世帯分）",{"$f":"AN1","v":{"v":0,"d":"¥0"}},null,"59駐車場代",{"$f":"R1","v":{"v":0,"d":"¥0"}}]
["11援助",{"$f":"AO1","v":{"v":0,"d":"¥0"}},null,"60ガソリン代・灯油代",{"$f":"S1","v":{"v":0,"d":"¥0"}}]
["12公的援助",{"$f":"AP1","v":{"v":0,"d":"¥0"}},null,"61仕事",{"$f":"T1","v":{"v":0,"d":"¥0"}}]
[{"$nulls":3},"62車代",{"$f":"U1","v":{"v":0,"d":"¥0"}}]
[{"$nulls":3},"63介護費用",{"$f":"V1","v":{"v":0,"d":"¥0"}}]
[{"$nulls":3},"64弁護士費用",{"$f":"W1","v":{"v":0,"d":"¥0"}}]
[{"$nulls":3},"65家財道具",{"$f":"X1","v":{"v":0,"d":"¥0"}}]
[{"$nulls":3},"66役所",{"$f":"Y1","v":{"v":0,"d":"¥0"}}]
[{"$nulls":3},"67散髪代",{"$f":"Z1","v":{"v":0,"d":"¥0"}}]
[{"$nulls":3},"68税金",{"$f":"AA1","v":{"v":0,"d":"¥0"}}]
[]
[]
[]
[]
[]
[]
["合計",{"$f":"SUM(B2:B26)","v":{"v":0,"d":"¥0"}},null,null,{"$f":"SUM(E2:E26)","v":{"v":0,"d":"¥0"}},null,{"$f":"SUM(G3:G26)","v":{"v":0,"d":"¥0"}}]

{"sheet":"1月","index":4,"n_rows":27,"n_cols":43,"rows_kept":27}
[{"$nulls":7},"支払い合計",{"$f":"-SUM(I3:I1048576)","v":{"v":0,"d":"¥0"}},{"$f":"-SUM(J3:J1048576)","v":{"v":0,"d":"¥0"}},{"v":0,"d":"¥0"},{"v":0,"d":"¥0"},{"v":0,"d":"¥0"},{"v":0,"d":"¥0"},{"v":0,"d":"¥0"},{"v":0,"d":"¥0"},{"v":0,"d":"¥0"},{"v":0,"d":"¥0"},{"v":0,"d":"¥0"},{"v":0,"d":"¥0"},{"v":0,"d":"¥0"},{"v":0,"d":"¥0"},{"v":0,"d":"¥0"},{"v":0,"d":"¥0"},{"v":0,"d":"¥0"},{"v":0,"d":"¥0"},{"v":0,"d":"¥0"},{"$f":"SUM(I1:AA1)","v":{"v":0,"d":"¥0"}},null,"収入合計",{"$f":"SUM(AE3:AE1048576)","v":{"v":0,"d":"¥0"}},{"$f":"SUM(AF3:AF1048576)","v":{"v":0,"d":"¥0"}},{"v":0,"d":"¥0"},{"v":0,"d":"¥0"},{"v":0,"d":"¥0"},{"v":0,"d":"¥0"},{"v":0,"d":"¥0"},{"v":0,"d":"¥0"},{"v":0,"d":"¥0"},{"v":0,"d":"¥0"},{"v":0,"d":"¥0"},{"v":0,"d":"¥0"},{"$f":"SUM(AE1:AP1)","v":{"v":0,"d":"¥0"}}]
["01給料（自分）",{"$f":"AE1","v":{"v":0,"d":"¥0"}},null,"50家賃・管理費",{"$f":"I1","v":{"v":0,"d":"¥0"}},null,"介護支援",null,{"$f":"D2","v":"50家賃・管理費"},{"$f":"D3","v":"51食費"},{"$f":"D4","v":"52水道・光熱費"},{"$f":"D5","v":"53電話料"},{"$f":"D6","v":"54衣類・日用品"},{"$f":"D7","v":"55医療費"},{"$f":"D8","v":"56教育費"},{"$f":"D9","v":"57交際費・遊興費"},{"$f":"D10","v":"58保険料"},{"$f":"D11","v":"59駐車場代"},{"$f":"D12","v":"60ガソリン代・灯油代"},{"$f":"D13","v":"61仕事"},{"$f":"D14","v":"62車代"},{"$f":"D15","v":"63介護費用"},{"$f":"D16","v":"64弁護士費用"},{"$f":"D17","v":"65家財道具"},{"$f":"D18","v":"66役所"},{"$f":"D19","v":"67散髪代"},{"$f":"D20","v":"68税金"},{"$nulls":3},{"$f":"A2","v":"01給料（自分）"},{"$f":"A3","v":"02給料（同居者）"},{"$f":"A4","v":"03自営収入（自分）"},{"$f":"A5","v":"04自営収入（同居者）"},{"$f":"A6","v":"05年金（自分）"},{"$f":"A7","v":"06年金（同居者）"},{"$f":"A8","v":"07生活保護（世帯分）"},{"$f":"A9","v":"08失業保険（自分）"},{"$f":"A10","v":"09失業保険（同居者）"},{"$f":"A11","v":"10児童手当（世帯分）"},{"$f":"A12","v":"11援助"},{"$f":"A13","v":"12公的援助"}]
["02給料（同居者）",{"$f":"AF1","v":{"v":0,"d":"¥0"}},null,"51食費",{"$f":"J1","v":{"v":0,"d":"¥0"}}]
["03自営収入（自分）",{"$f":"AG1","v":{"v":0,"d":"¥0"}},null,"52水道・光熱費",{"$f":"K1","v":{"v":0,"d":"¥0"}}]
["04自営収入（同居者）",{"$f":"AH1","v":{"v":0,"d":"¥0"}},null,"53電話料",{"$f":"L1","v":{"v":0,"d":"¥0"}}]
["05年金（自分）",{"$f":"AI1","v":{"v":0,"d":"¥0"}},null,"54衣類・日用品",{"$f":"M1","v":{"v":0,"d":"¥0"}}]
["06年金（同居者）",{"$f":"AJ1","v":{"v":0,"d":"¥0"}},null,"55医療費",{"$f":"N1","v":{"v":0,"d":"¥0"}}]
["07生活保護（世帯分）",{"$f":"AK1","v":{"v":0,"d":"¥0"}},null,"56教育費",{"$f":"O1","v":{"v":0,"d":"¥0"}}]
["08失業保険（自分）",{"$f":"AL1","v":{"v":0,"d":"¥0"}},null,"57交際費・遊興費",{"$f":"P1","v":{"v":0,"d":"¥0"}}]
["09失業保険（同居者）",{"$f":"AM1","v":{"v":0,"d":"¥0"}},null,"58保険料",{"$f":"Q1","v":{"v":0,"d":"¥0"}}]
["10児童手当（世帯分）",{"$f":"AN1","v":{"v":0,"d":"¥0"}},null,"59駐車場代",{"$f":"R1","v":{"v":0,"d":"¥0"}}]
["11援助",{"$f":"AO1","v":{"v":0,"d":"¥0"}},null,"60ガソリン代・灯油代",{"$f":"S1","v":{"v":0,"d":"¥0"}}]
["12公的援助",{"$f":"AP1","v":{"v":0,"d":"¥0"}},null,"61仕事",{"$f":"T1","v":{"v":0,"d":"¥0"}}]
[{"$nulls":3},"62車代",{"$f":"U1","v":{"v":0,"d":"¥0"}}]
[{"$nulls":3},"63介護費用",{"$f":"V1","v":{"v":0,"d":"¥0"}}]
[{"$nulls":3},"64弁護士費用",{"$f":"W1","v":{"v":0,"d":"¥0"}}]
[{"$nulls":3},"65家財道具",{"$f":"X1","v":{"v":0,"d":"¥0"}}]
[{"$nulls":3},"66役所",{"$f":"Y1","v":{"v":0,"d":"¥0"}}]
[{"$nulls":3},"67散髪代",{"$f":"Z1","v":{"v":0,"d":"¥0"}}]
[{"$nulls":3},"68税金",{"$f":"AA1","v":{"v":0,"d":"¥0"}}]
[]
[]
[]
[]
[]
[]
["合計",{"$f":"SUM(B2:B26)","v":{"v":0,"d":"¥0"}},null,null,{"$f":"SUM(E2:E26)","v":{"v":0,"d":"¥0"}},null,{"$f":"SUM(G3:G26)","v":{"v":0,"d":"¥0"}}]

{"sheet":"2月","index":5,"n_rows":27,"n_cols":43,"rows_kept":27}
[{"$nulls":7},"支払い合計",{"$f":"-SUM(I3:I1048576)","v":{"v":0,"d":"¥0"}},{"$f":"-SUM(J3:J1048576)","v":{"v":0,"d":"¥0"}},{"v":0,"d":"¥0"},{"v":0,"d":"¥0"},{"v":0,"d":"¥0"},{"v":0,"d":"¥0"},{"v":0,"d":"¥0"},{"v":0,"d":"¥0"},{"v":0,"d":"¥0"},{"v":0,"d":"¥0"},{"v":0,"d":"¥0"},{"v":0,"d":"¥0"},{"v":0,"d":"¥0"},{"v":0,"d":"¥0"},{"v":0,"d":"¥0"},{"v":0,"d":"¥0"},{"v":0,"d":"¥0"},{"v":0,"d":"¥0"},{"v":0,"d":"¥0"},{"$f":"SUM(I1:AA1)","v":{"v":0,"d":"¥0"}},null,"収入合計",{"$f":"SUM(AE3:AE1048576)","v":{"v":0,"d":"¥0"}},{"$f":"SUM(AF3:AF1048576)","v":{"v":0,"d":"¥0"}},{"v":0,"d":"¥0"},{"v":0,"d":"¥0"},{"v":0,"d":"¥0"},{"v":0,"d":"¥0"},{"v":0,"d":"¥0"},{"v":0,"d":"¥0"},{"v":0,"d":"¥0"},{"v":0,"d":"¥0"},{"v":0,"d":"¥0"},{"v":0,"d":"¥0"},{"$f":"SUM(AE1:AP1)","v":{"v":0,"d":"¥0"}}]
["01給料（自分）",{"$f":"AE1","v":{"v":0,"d":"¥0"}},null,"50家賃・管理費",{"$f":"I1","v":{"v":0,"d":"¥0"}},null,"介護支援",null,{"$f":"D2","v":"50家賃・管理費"},{"$f":"D3","v":"51食費"},{"$f":"D4","v":"52水道・光熱費"},{"$f":"D5","v":"53電話料"},{"$f":"D6","v":"54衣類・日用品"},{"$f":"D7","v":"55医療費"},{"$f":"D8","v":"56教育費"},{"$f":"D9","v":"57交際費・遊興費"},{"$f":"D10","v":"58保険料"},{"$f":"D11","v":"59駐車場代"},{"$f":"D12","v":"60ガソリン代・灯油代"},{"$f":"D13","v":"61仕事"},{"$f":"D14","v":"62車代"},{"$f":"D15","v":"63介護費用"},{"$f":"D16","v":"64弁護士費用"},{"$f":"D17","v":"65家財道具"},{"$f":"D18","v":"66役所"},{"$f":"D19","v":"67散髪代"},{"$f":"D20","v":"68税金"},{"$nulls":3},{"$f":"A2","v":"01給料（自分）"},{"$f":"A3","v":"02給料（同居者）"},{"$f":"A4","v":"03自営収入（自分）"},{"$f":"A5","v":"04自営収入（同居者）"},{"$f":"A6","v":"05年金（自分）"},{"$f":"A7","v":"06年金（同居者）"},{"$f":"A8","v":"07生活保護（世帯分）"},{"$f":"A9","v":"08失業保険（自分）"},{"$f":"A10","v":"09失業保険（同居者）"},{"$f":"A11","v":"10児童手当（世帯分）"},{"$f":"A12","v":"11援助"},{"$f":"A13","v":"12公的援助"}]
["02給料（同居者）",{"$f":"AF1","v":{"v":0,"d":"¥0"}},null,"51食費",{"$f":"J1","v":{"v":0,"d":"¥0"}}]
["03自営収入（自分）",{"$f":"AG1","v":{"v":0,"d":"¥0"}},null,"52水道・光熱費",{"$f":"K1","v":{"v":0,"d":"¥0"}}]
["04自営収入（同居者）",{"$f":"AH1","v":{"v":0,"d":"¥0"}},null,"53電話料",{"$f":"L1","v":{"v":0,"d":"¥0"}}]
["05年金（自分）",{"$f":"AI1","v":{"v":0,"d":"¥0"}},null,"54衣類・日用品",{"$f":"M1","v":{"v":0,"d":"¥0"}}]
["06年金（同居者）",{"$f":"AJ1","v":{"v":0,"d":"¥0"}},null,"55医療費",{"$f":"N1","v":{"v":0,"d":"¥0"}}]
["07生活保護（世帯分）",{"$f":"AK1","v":{"v":0,"d":"¥0"}},null,"56教育費",{"$f":"O1","v":{"v":0,"d":"¥0"}}]
["08失業保険（自分）",{"$f":"AL1","v":{"v":0,"d":"¥0"}},null,"57交際費・遊興費",{"$f":"P1","v":{"v":0,"d":"¥0"}}]
["09失業保険（同居者）",{"$f":"AM1","v":{"v":0,"d":"¥0"}},null,"58保険料",{"$f":"Q1","v":{"v":0,"d":"¥0"}}]
["10児童手当（世帯分）",{"$f":"AN1","v":{"v":0,"d":"¥0"}},null,"59駐車場代",{"$f":"R1","v":{"v":0,"d":"¥0"}}]
["11援助",{"$f":"AO1","v":{"v":0,"d":"¥0"}},null,"60ガソリン代・灯油代",{"$f":"S1","v":{"v":0,"d":"¥0"}}]
["12公的援助",{"$f":"AP1","v":{"v":0,"d":"¥0"}},null,"61仕事",{"$f":"T1","v":{"v":0,"d":"¥0"}}]
[{"$nulls":3},"62車代",{"$f":"U1","v":{"v":0,"d":"¥0"}}]
[{"$nulls":3},"63介護費用",{"$f":"V1","v":{"v":0,"d":"¥0"}}]
[{"$nulls":3},"64弁護士費用",{"$f":"W1","v":{"v":0,"d":"¥0"}}]
[{"$nulls":3},"65家財道具",{"$f":"X1","v":{"v":0,"d":"¥0"}}]
[{"$nulls":3},"66役所",{"$f":"Y1","v":{"v":0,"d":"¥0"}}]
[{"$nulls":3},"67散髪代",{"$f":"Z1","v":{"v":0,"d":"¥0"}}]
[{"$nulls":3},"68税金",{"$f":"AA1","v":{"v":0,"d":"¥0"}}]
[]
[]
[]
[]
[]
[]
["合計",{"$f":"SUM(B2:B26)","v":{"v":0,"d":"¥0"}},null,null,{"$f":"SUM(E2:E26)","v":{"v":0,"d":"¥0"}},null,{"$f":"SUM(G3:G26)","v":{"v":0,"d":"¥0"}}]

{"sheet":"3月","index":6,"n_rows":27,"n_cols":43,"rows_kept":27}
[{"$nulls":7},"支払い合計",{"$f":"-SUM(I3:I1048576)","v":{"v":0,"d":"¥0"}},{"$f":"-SUM(J3:J1048576)","v":{"v":0,"d":"¥0"}},{"v":0,"d":"¥0"},{"v":0,"d":"¥0"},{"v":0,"d":"¥0"},{"v":0,"d":"¥0"},{"v":0,"d":"¥0"},{"v":0,"d":"¥0"},{"v":0,"d":"¥0"},{"v":0,"d":"¥0"},{"v":0,"d":"¥0"},{"v":0,"d":"¥0"},{"v":0,"d":"¥0"},{"v":0,"d":"¥0"},{"v":0,"d":"¥0"},{"v":0,"d":"¥0"},{"v":0,"d":"¥0"},{"v":0,"d":"¥0"},{"v":0,"d":"¥0"},{"$f":"SUM(I1:AA1)","v":{"v":0,"d":"¥0"}},null,"収入合計",{"$f":"SUM(AE3:AE1048576)","v":{"v":0,"d":"¥0"}},{"$f":"SUM(AF3:AF1048576)","v":{"v":0,"d":"¥0"}},{"v":0,"d":"¥0"},{"v":0,"d":"¥0"},{"v":0,"d":"¥0"},{"v":0,"d":"¥0"},{"v":0,"d":"¥0"},{"v":0,"d":"¥0"},{"v":0,"d":"¥0"},{"v":0,"d":"¥0"},{"v":0,"d":"¥0"},{"v":0,"d":"¥0"},{"$f":"SUM(AE1:AP1)","v":{"v":0,"d":"¥0"}}]
["01給料（自分）",{"$f":"AE1","v":{"v":0,"d":"¥0"}},null,"50家賃・管理費",{"$f":"I1","v":{"v":0,"d":"¥0"}},null,"介護支援",null,{"$f":"D2","v":"50家賃・管理費"},{"$f":"D3","v":"51食費"},{"$f":"D4","v":"52水道・光熱費"},{"$f":"D5","v":"53電話料"},{"$f":"D6","v":"54衣類・日用品"},{"$f":"D7","v":"55医療費"},{"$f":"D8","v":"56教育費"},{"$f":"D9","v":"57交際費・遊興費"},{"$f":"D10","v":"58保険料"},{"$f":"D11","v":"59駐車場代"},{"$f":"D12","v":"60ガソリン代・灯油代"},{"$f":"D13","v":"61仕事"},{"$f":"D14","v":"62車代"},{"$f":"D15","v":"63介護費用"},{"$f":"D16","v":"64弁護士費用"},{"$f":"D17","v":"65家財道具"},{"$f":"D18","v":"66役所"},{"$f":"D19","v":"67散髪代"},{"$f":"D20","v":"68税金"},{"$nulls":3},{"$f":"A2","v":"01給料（自分）"},{"$f":"A3","v":"02給料（同居者）"},{"$f":"A4","v":"03自営収入（自分）"},{"$f":"A5","v":"04自営収入（同居者）"},{"$f":"A6","v":"05年金（自分）"},{"$f":"A7","v":"06年金（同居者）"},{"$f":"A8","v":"07生活保護（世帯分）"},{"$f":"A9","v":"08失業保険（自分）"},{"$f":"A10","v":"09失業保険（同居者）"},{"$f":"A11","v":"10児童手当（世帯分）"},{"$f":"A12","v":"11援助"},{"$f":"A13","v":"12公的援助"}]
["02給料（同居者）",{"$f":"AF1","v":{"v":0,"d":"¥0"}},null,"51食費",{"$f":"J1","v":{"v":0,"d":"¥0"}}]
["03自営収入（自分）",{"$f":"AG1","v":{"v":0,"d":"¥0"}},null,"52水道・光熱費",{"$f":"K1","v":{"v":0,"d":"¥0"}}]
["04自営収入（同居者）",{"$f":"AH1","v":{"v":0,"d":"¥0"}},null,"53電話料",{"$f":"L1","v":{"v":0,"d":"¥0"}}]
["05年金（自分）",{"$f":"AI1","v":{"v":0,"d":"¥0"}},null,"54衣類・日用品",{"$f":"M1","v":{"v":0,"d":"¥0"}}]
["06年金（同居者）",{"$f":"AJ1","v":{"v":0,"d":"¥0"}},null,"55医療費",{"$f":"N1","v":{"v":0,"d":"¥0"}}]
["07生活保護（世帯分）",{"$f":"AK1","v":{"v":0,"d":"¥0"}},null,"56教育費",{"$f":"O1","v":{"v":0,"d":"¥0"}}]
["08失業保険（自分）",{"$f":"AL1","v":{"v":0,"d":"¥0"}},null,"57交際費・遊興費",{"$f":"P1","v":{"v":0,"d":"¥0"}}]
["09失業保険（同居者）",{"$f":"AM1","v":{"v":0,"d":"¥0"}},null,"58保険料",{"$f":"Q1","v":{"v":0,"d":"¥0"}}]
["10児童手当（世帯分）",{"$f":"AN1","v":{"v":0,"d":"¥0"}},null,"59駐車場代",{"$f":"R1","v":{"v":0,"d":"¥0"}}]
["11援助",{"$f":"AO1","v":{"v":0,"d":"¥0"}},null,"60ガソリン代・灯油代",{"$f":"S1","v":{"v":0,"d":"¥0"}}]
["12公的援助",{"$f":"AP1","v":{"v":0,"d":"¥0"}},null,"61仕事",{"$f":"T1","v":{"v":0,"d":"¥0"}}]
[{"$nulls":3},"62車代",{"$f":"U1","v":{"v":0,"d":"¥0"}}]
[{"$nulls":3},"63介護費用",{"$f":"V1","v":{"v":0,"d":"¥0"}}]
[{"$nulls":3},"64弁護士費用",{"$f":"W1","v":{"v":0,"d":"¥0"}}]
[{"$nulls":3},"65家財道具",{"$f":"X1","v":{"v":0,"d":"¥0"}}]
[{"$nulls":3},"66役所",{"$f":"Y1","v":{"v":0,"d":"¥0"}}]
[{"$nulls":3},"67散髪代",{"$f":"Z1","v":{"v":0,"d":"¥0"}}]
[{"$nulls":3},"68税金",{"$f":"AA1","v":{"v":0,"d":"¥0"}}]
[]
[]
[]
[]
[]
[]
["合計",{"$f":"SUM(B2:B26)","v":{"v":0,"d":"¥0"}},null,null,{"$f":"SUM(E2:E26)","v":{"v":0,"d":"¥0"}},null,{"$f":"SUM(G3:G26)","v":{"v":0,"d":"¥0"}}]

{"sheet":"4月","index":7,"n_rows":27,"n_cols":43,"rows_kept":27}
[{"$nulls":7},"支払い合計",{"$f":"-SUM(I3:I1048576)","v":{"v":0,"d":"¥0"}},{"$f":"-SUM(J3:J1048576)","v":{"v":0,"d":"¥0"}},{"v":0,"d":"¥0"},{"v":0,"d":"¥0"},{"v":0,"d":"¥0"},{"v":0,"d":"¥0"},{"v":0,"d":"¥0"},{"v":0,"d":"¥0"},{"v":0,"d":"¥0"},{"v":0,"d":"¥0"},{"v":0,"d":"¥0"},{"v":0,"d":"¥0"},{"v":0,"d":"¥0"},{"v":0,"d":"¥0"},{"v":0,"d":"¥0"},{"v":0,"d":"¥0"},{"v":0,"d":"¥0"},{"v":0,"d":"¥0"},{"v":0,"d":"¥0"},{"$f":"SUM(I1:AA1)","v":{"v":0,"d":"¥0"}},null,"収入合計",{"$f":"SUM(AE3:AE1048576)","v":{"v":0,"d":"¥0"}},{"$f":"SUM(AF3:AF1048576)","v":{"v":0,"d":"¥0"}},{"v":0,"d":"¥0"},{"v":0,"d":"¥0"},{"v":0,"d":"¥0"},{"v":0,"d":"¥0"},{"v":0,"d":"¥0"},{"v":0,"d":"¥0"},{"v":0,"d":"¥0"},{"v":0,"d":"¥0"},{"v":0,"d":"¥0"},{"v":0,"d":"¥0"},{"$f":"SUM(AE1:AP1)","v":{"v":0,"d":"¥0"}}]
["01給料（自分）",{"$f":"AE1","v":{"v":0,"d":"¥0"}},null,"50家賃・管理費",{"$f":"I1","v":{"v":0,"d":"¥0"}},null,"介護支援",null,{"$f":"D2","v":"50家賃・管理費"},{"$f":"D3","v":"51食費"},{"$f":"D4","v":"52水道・光熱費"},{"$f":"D5","v":"53電話料"},{"$f":"D6","v":"54衣類・日用品"},{"$f":"D7","v":"55医療費"},{"$f":"D8","v":"56教育費"},{"$f":"D9","v":"57交際費・遊興費"},{"$f":"D10","v":"58保険料"},{"$f":"D11","v":"59駐車場代"},{"$f":"D12","v":"60ガソリン代・灯油代"},{"$f":"D13","v":"61仕事"},{"$f":"D14","v":"62車代"},{"$f":"D15","v":"63介護費用"},{"$f":"D16","v":"64弁護士費用"},{"$f":"D17","v":"65家財道具"},{"$f":"D18","v":"66役所"},{"$f":"D19","v":"67散髪代"},{"$f":"D20","v":"68税金"},{"$nulls":3},{"$f":"A2","v":"01給料（自分）"},{"$f":"A3","v":"02給料（同居者）"},{"$f":"A4","v":"03自営収入（自分）"},{"$f":"A5","v":"04自営収入（同居者）"},{"$f":"A6","v":"05年金（自分）"},{"$f":"A7","v":"06年金（同居者）"},{"$f":"A8","v":"07生活保護（世帯分）"},{"$f":"A9","v":"08失業保険（自分）"},{"$f":"A10","v":"09失業保険（同居者）"},{"$f":"A11","v":"10児童手当（世帯分）"},{"$f":"A12","v":"11援助"},{"$f":"A13","v":"12公的援助"}]
["02給料（同居者）",{"$f":"AF1","v":{"v":0,"d":"¥0"}},null,"51食費",{"$f":"J1","v":{"v":0,"d":"¥0"}}]
["03自営収入（自分）",{"$f":"AG1","v":{"v":0,"d":"¥0"}},null,"52水道・光熱費",{"$f":"K1","v":{"v":0,"d":"¥0"}}]
["04自営収入（同居者）",{"$f":"AH1","v":{"v":0,"d":"¥0"}},null,"53電話料",{"$f":"L1","v":{"v":0,"d":"¥0"}}]
["05年金（自分）",{"$f":"AI1","v":{"v":0,"d":"¥0"}},null,"54衣類・日用品",{"$f":"M1","v":{"v":0,"d":"¥0"}}]
["06年金（同居者）",{"$f":"AJ1","v":{"v":0,"d":"¥0"}},null,"55医療費",{"$f":"N1","v":{"v":0,"d":"¥0"}}]
["07生活保護（世帯分）",{"$f":"AK1","v":{"v":0,"d":"¥0"}},null,"56教育費",{"$f":"O1","v":{"v":0,"d":"¥0"}}]
["08失業保険（自分）",{"$f":"AL1","v":{"v":0,"d":"¥0"}},null,"57交際費・遊興費",{"$f":"P1","v":{"v":0,"d":"¥0"}}]
["09失業保険（同居者）",{"$f":"AM1","v":{"v":0,"d":"¥0"}},null,"58保険料",{"$f":"Q1","v":{"v":0,"d":"¥0"}}]
["10児童手当（世帯分）",{"$f":"AN1","v":{"v":0,"d":"¥0"}},null,"59駐車場代",{"$f":"R1","v":{"v":0,"d":"¥0"}}]
["11援助",{"$f":"AO1","v":{"v":0,"d":"¥0"}},null,"60ガソリン代・灯油代",{"$f":"S1","v":{"v":0,"d":"¥0"}}]
["12公的援助",{"$f":"AP1","v":{"v":0,"d":"¥0"}},null,"61仕事",{"$f":"T1","v":{"v":0,"d":"¥0"}}]
[{"$nulls":3},"62車代",{"$f":"U1","v":{"v":0,"d":"¥0"}}]
[{"$nulls":3},"63介護費用",{"$f":"V1","v":{"v":0,"d":"¥0"}}]
[{"$nulls":3},"64弁護士費用",{"$f":"W1","v":{"v":0,"d":"¥0"}}]
[{"$nulls":3},"65家財道具",{"$f":"X1","v":{"v":0,"d":"¥0"}}]
[{"$nulls":3},"66役所",{"$f":"Y1","v":{"v":0,"d":"¥0"}}]
[{"$nulls":3},"67散髪代",{"$f":"Z1","v":{"v":0,"d":"¥0"}}]
[{"$nulls":3},"68税金",{"$f":"AA1","v":{"v":0,"d":"¥0"}}]
[]
[]
[]
[]
[]
[]
["合計",{"$f":"SUM(B2:B26)","v":{"v":0,"d":"¥0"}},null,null,{"$f":"SUM(E2:E26)","v":{"v":0,"d":"¥0"}},null,{"$f":"SUM(G3:G26)","v":{"v":0,"d":"¥0"}}]

{"sheet":"5月","index":8,"n_rows":27,"n_cols":43,"rows_kept":27}
[{"$nulls":7},"支払い合計",{"$f":"-SUM(I3:I1048576)","v":{"v":0,"d":"¥0"}},{"$f":"-SUM(J3:J1048576)","v":{"v":0,"d":"¥0"}},{"v":0,"d":"¥0"},{"v":0,"d":"¥0"},{"v":0,"d":"¥0"},{"v":0,"d":"¥0"},{"v":0,"d":"¥0"},{"v":0,"d":"¥0"},{"v":0,"d":"¥0"},{"v":0,"d":"¥0"},{"v":0,"d":"¥0"},{"v":0,"d":"¥0"},{"v":0,"d":"¥0"},{"v":0,"d":"¥0"},{"v":0,"d":"¥0"},{"v":0,"d":"¥0"},{"v":0,"d":"¥0"},{"v":0,"d":"¥0"},{"v":0,"d":"¥0"},{"$f":"SUM(I1:AA1)","v":{"v":0,"d":"¥0"}},null,"収入合計",{"$f":"SUM(AE3:AE1048576)","v":{"v":0,"d":"¥0"}},{"$f":"SUM(AF3:AF1048576)","v":{"v":0,"d":"¥0"}},{"v":0,"d":"¥0"},{"v":0,"d":"¥0"},{"v":0,"d":"¥0"},{"v":0,"d":"¥0"},{"v":0,"d":"¥0"},{"v":0,"d":"¥0"},{"v":0,"d":"¥0"},{"v":0,"d":"¥0"},{"v":0,"d":"¥0"},{"v":0,"d":"¥0"},{"$f":"SUM(AE1:AP1)","v":{"v":0,"d":"¥0"}}]
["01給料（自分）",{"$f":"AE1","v":{"v":0,"d":"¥0"}},null,"50家賃・管理費",{"$f":"I1","v":{"v":0,"d":"¥0"}},null,"介護支援",null,{"$f":"D2","v":"50家賃・管理費"},{"$f":"D3","v":"51食費"},{"$f":"D4","v":"52水道・光熱費"},{"$f":"D5","v":"53電話料"},{"$f":"D6","v":"54衣類・日用品"},{"$f":"D7","v":"55医療費"},{"$f":"D8","v":"56教育費"},{"$f":"D9","v":"57交際費・遊興費"},{"$f":"D10","v":"58保険料"},{"$f":"D11","v":"59駐車場代"},{"$f":"D12","v":"60ガソリン代・灯油代"},{"$f":"D13","v":"61仕事"},{"$f":"D14","v":"62車代"},{"$f":"D15","v":"63介護費用"},{"$f":"D16","v":"64弁護士費用"},{"$f":"D17","v":"65家財道具"},{"$f":"D18","v":"66役所"},{"$f":"D19","v":"67散髪代"},{"$f":"D20","v":"68税金"},{"$nulls":3},{"$f":"A2","v":"01給料（自分）"},{"$f":"A3","v":"02給料（同居者）"},{"$f":"A4","v":"03自営収入（自分）"},{"$f":"A5","v":"04自営収入（同居者）"},{"$f":"A6","v":"05年金（自分）"},{"$f":"A7","v":"06年金（同居者）"},{"$f":"A8","v":"07生活保護（世帯分）"},{"$f":"A9","v":"08失業保険（自分）"},{"$f":"A10","v":"09失業保険（同居者）"},{"$f":"A11","v":"10児童手当（世帯分）"},{"$f":"A12","v":"11援助"},{"$f":"A13","v":"12公的援助"}]
["02給料（同居者）",{"$f":"AF1","v":{"v":0,"d":"¥0"}},null,"51食費",{"$f":"J1","v":{"v":0,"d":"¥0"}}]
["03自営収入（自分）",{"$f":"AG1","v":{"v":0,"d":"¥0"}},null,"52水道・光熱費",{"$f":"K1","v":{"v":0,"d":"¥0"}}]
["04自営収入（同居者）",{"$f":"AH1","v":{"v":0,"d":"¥0"}},null,"53電話料",{"$f":"L1","v":{"v":0,"d":"¥0"}}]
["05年金（自分）",{"$f":"AI1","v":{"v":0,"d":"¥0"}},null,"54衣類・日用品",{"$f":"M1","v":{"v":0,"d":"¥0"}}]
["06年金（同居者）",{"$f":"AJ1","v":{"v":0,"d":"¥0"}},null,"55医療費",{"$f":"N1","v":{"v":0,"d":"¥0"}}]
["07生活保護（世帯分）",{"$f":"AK1","v":{"v":0,"d":"¥0"}},null,"56教育費",{"$f":"O1","v":{"v":0,"d":"¥0"}}]
["08失業保険（自分）",{"$f":"AL1","v":{"v":0,"d":"¥0"}},null,"57交際費・遊興費",{"$f":"P1","v":{"v":0,"d":"¥0"}}]
["09失業保険（同居者）",{"$f":"AM1","v":{"v":0,"d":"¥0"}},null,"58保険料",{"$f":"Q1","v":{"v":0,"d":"¥0"}}]
["10児童手当（世帯分）",{"$f":"AN1","v":{"v":0,"d":"¥0"}},null,"59駐車場代",{"$f":"R1","v":{"v":0,"d":"¥0"}}]
["11援助",{"$f":"AO1","v":{"v":0,"d":"¥0"}},null,"60ガソリン代・灯油代",{"$f":"S1","v":{"v":0,"d":"¥0"}}]
["12公的援助",{"$f":"AP1","v":{"v":0,"d":"¥0"}},null,"61仕事",{"$f":"T1","v":{"v":0,"d":"¥0"}}]
[{"$nulls":3},"62車代",{"$f":"U1","v":{"v":0,"d":"¥0"}}]
[{"$nulls":3},"63介護費用",{"$f":"V1","v":{"v":0,"d":"¥0"}}]
[{"$nulls":3},"64弁護士費用",{"$f":"W1","v":{"v":0,"d":"¥0"}}]
[{"$nulls":3},"65家財道具",{"$f":"X1","v":{"v":0,"d":"¥0"}}]
[{"$nulls":3},"66役所",{"$f":"Y1","v":{"v":0,"d":"¥0"}}]
[{"$nulls":3},"67散髪代",{"$f":"Z1","v":{"v":0,"d":"¥0"}}]
[{"$nulls":3},"68税金",{"$f":"AA1","v":{"v":0,"d":"¥0"}}]
[]
[]
[]
[]
[]
[]
["合計",{"$f":"SUM(B2:B26)","v":{"v":0,"d":"¥0"}},null,null,{"$f":"SUM(E2:E26)","v":{"v":0,"d":"¥0"}},null,{"$f":"SUM(G3:G26)","v":{"v":0,"d":"¥0"}}]

{"sheet":"6月","index":9,"n_rows":27,"n_cols":43,"rows_kept":27}
[{"$nulls":7},"支払い合計",{"$f":"-SUM(I3:I1048576)","v":{"v":0,"d":"¥0"}},{"$f":"-SUM(J3:J1048576)","v":{"v":0,"d":"¥0"}},{"v":0,"d":"¥0"},{"v":0,"d":"¥0"},{"v":0,"d":"¥0"},{"v":0,"d":"¥0"},{"v":0,"d":"¥0"},{"v":0,"d":"¥0"},{"v":0,"d":"¥0"},{"v":0,"d":"¥0"},{"v":0,"d":"¥0"},{"v":0,"d":"¥0"},{"v":0,"d":"¥0"},{"v":0,"d":"¥0"},{"v":0,"d":"¥0"},{"v":0,"d":"¥0"},{"v":0,"d":"¥0"},{"v":0,"d":"¥0"},{"v":0,"d":"¥0"},{"$f":"SUM(I1:AA1)","v":{"v":0,"d":"¥0"}},null,"収入合計",{"$f":"SUM(AE3:AE1048576)","v":{"v":0,"d":"¥0"}},{"$f":"SUM(AF3:AF1048576)","v":{"v":0,"d":"¥0"}},{"v":0,"d":"¥0"},{"v":0,"d":"¥0"},{"v":0,"d":"¥0"},{"v":0,"d":"¥0"},{"v":0,"d":"¥0"},{"v":0,"d":"¥0"},{"v":0,"d":"¥0"},{"v":0,"d":"¥0"},{"v":0,"d":"¥0"},{"v":0,"d":"¥0"},{"$f":"SUM(AE1:AP1)","v":{"v":0,"d":"¥0"}}]
["01給料（自分）",{"$f":"AE1","v":{"v":0,"d":"¥0"}},null,"50家賃・管理費",{"$f":"I1","v":{"v":0,"d":"¥0"}},null,"介護支援",null,{"$f":"D2","v":"50家賃・管理費"},{"$f":"D3","v":"51食費"},{"$f":"D4","v":"52水道・光熱費"},{"$f":"D5","v":"53電話料"},{"$f":"D6","v":"54衣類・日用品"},{"$f":"D7","v":"55医療費"},{"$f":"D8","v":"56教育費"},{"$f":"D9","v":"57交際費・遊興費"},{"$f":"D10","v":"58保険料"},{"$f":"D11","v":"59駐車場代"},{"$f":"D12","v":"60ガソリン代・灯油代"},{"$f":"D13","v":"61仕事"},{"$f":"D14","v":"62車代"},{"$f":"D15","v":"63介護費用"},{"$f":"D16","v":"64弁護士費用"},{"$f":"D17","v":"65家財道具"},{"$f":"D18","v":"66役所"},{"$f":"D19","v":"67散髪代"},{"$f":"D20","v":"68税金"},{"$nulls":3},{"$f":"A2","v":"01給料（自分）"},{"$f":"A3","v":"02給料（同居者）"},{"$f":"A4","v":"03自営収入（自分）"},{"$f":"A5","v":"04自営収入（同居者）"},{"$f":"A6","v":"05年金（自分）"},{"$f":"A7","v":"06年金（同居者）"},{"$f":"A8","v":"07生活保護（世帯分）"},{"$f":"A9","v":"08失業保険（自分）"},{"$f":"A10","v":"09失業保険（同居者）"},{"$f":"A11","v":"10児童手当（世帯分）"},{"$f":"A12","v":"11援助"},{"$f":"A13","v":"12公的援助"}]
["02給料（同居者）",{"$f":"AF1","v":{"v":0,"d":"¥0"}},null,"51食費",{"$f":"J1","v":{"v":0,"d":"¥0"}}]
["03自営収入（自分）",{"$f":"AG1","v":{"v":0,"d":"¥0"}},null,"52水道・光熱費",{"$f":"K1","v":{"v":0,"d":"¥0"}}]
["04自営収入（同居者）",{"$f":"AH1","v":{"v":0,"d":"¥0"}},null,"53電話料",{"$f":"L1","v":{"v":0,"d":"¥0"}}]
["05年金（自分）",{"$f":"AI1","v":{"v":0,"d":"¥0"}},null,"54衣類・日用品",{"$f":"M1","v":{"v":0,"d":"¥0"}}]
["06年金（同居者）",{"$f":"AJ1","v":{"v":0,"d":"¥0"}},null,"55医療費",{"$f":"N1","v":{"v":0,"d":"¥0"}}]
["07生活保護（世帯分）",{"$f":"AK1","v":{"v":0,"d":"¥0"}},null,"56教育費",{"$f":"O1","v":{"v":0,"d":"¥0"}}]
["08失業保険（自分）",{"$f":"AL1","v":{"v":0,"d":"¥0"}},null,"57交際費・遊興費",{"$f":"P1","v":{"v":0,"d":"¥0"}}]
["09失業保険（同居者）",{"$f":"AM1","v":{"v":0,"d":"¥0"}},null,"58保険料",{"$f":"Q1","v":{"v":0,"d":"¥0"}}]
["10児童手当（世帯分）",{"$f":"AN1","v":{"v":0,"d":"¥0"}},null,"59駐車場代",{"$f":"R1","v":{"v":0,"d":"¥0"}}]
["11援助",{"$f":"AO1","v":{"v":0,"d":"¥0"}},null,"60ガソリン代・灯油代",{"$f":"S1","v":{"v":0,"d":"¥0"}}]
["12公的援助",{"$f":"AP1","v":{"v":0,"d":"¥0"}},null,"61仕事",{"$f":"T1","v":{"v":0,"d":"¥0"}}]
[{"$nulls":3},"62車代",{"$f":"U1","v":{"v":0,"d":"¥0"}}]
[{"$nulls":3},"63介護費用",{"$f":"V1","v":{"v":0,"d":"¥0"}}]
[{"$nulls":3},"64弁護士費用",{"$f":"W1","v":{"v":0,"d":"¥0"}}]
[{"$nulls":3},"65家財道具",{"$f":"X1","v":{"v":0,"d":"¥0"}}]
[{"$nulls":3},"66役所",{"$f":"Y1","v":{"v":0,"d":"¥0"}}]
[{"$nulls":3},"67散髪代",{"$f":"Z1","v":{"v":0,"d":"¥0"}}]
[{"$nulls":3},"68税金",{"$f":"AA1","v":{"v":0,"d":"¥0"}}]
[]
[]
[]
[]
[]
[]
["合計",{"$f":"SUM(B2:B26)","v":{"v":0,"d":"¥0"}},null,null,{"$f":"SUM(E2:E26)","v":{"v":0,"d":"¥0"}},null,{"$f":"SUM(G3:G26)","v":{"v":0,"d":"¥0"}}]

{"sheet":"7月","index":10,"n_rows":27,"n_cols":43,"rows_kept":27}
[{"$nulls":7},"支払い合計",{"$f":"-SUM(I3:I1048576)","v":{"v":0,"d":"¥0"}},{"$f":"-SUM(J3:J1048576)","v":{"v":0,"d":"¥0"}},{"v":0,"d":"¥0"},{"v":0,"d":"¥0"},{"v":0,"d":"¥0"},{"v":0,"d":"¥0"},{"v":0,"d":"¥0"},{"v":0,"d":"¥0"},{"v":0,"d":"¥0"},{"v":0,"d":"¥0"},{"v":0,"d":"¥0"},{"v":0,"d":"¥0"},{"v":0,"d":"¥0"},{"v":0,"d":"¥0"},{"v":0,"d":"¥0"},{"v":0,"d":"¥0"},{"v":0,"d":"¥0"},{"v":0,"d":"¥0"},{"v":0,"d":"¥0"},{"$f":"SUM(I1:AA1)","v":{"v":0,"d":"¥0"}},null,"収入合計",{"$f":"SUM(AE3:AE1048576)","v":{"v":0,"d":"¥0"}},{"$f":"SUM(AF3:AF1048576)","v":{"v":0,"d":"¥0"}},{"v":0,"d":"¥0"},{"v":0,"d":"¥0"},{"v":0,"d":"¥0"},{"v":0,"d":"¥0"},{"v":0,"d":"¥0"},{"v":0,"d":"¥0"},{"v":0,"d":"¥0"},{"v":0,"d":"¥0"},{"v":0,"d":"¥0"},{"v":0,"d":"¥0"},{"$f":"SUM(AE1:AP1)","v":{"v":0,"d":"¥0"}}]
["01給料（自分）",{"$f":"AE1","v":{"v":0,"d":"¥0"}},null,"50家賃・管理費",{"$f":"I1","v":{"v":0,"d":"¥0"}},null,"介護支援",null,{"$f":"D2","v":"50家賃・管理費"},{"$f":"D3","v":"51食費"},{"$f":"D4","v":"52水道・光熱費"},{"$f":"D5","v":"53電話料"},{"$f":"D6","v":"54衣類・日用品"},{"$f":"D7","v":"55医療費"},{"$f":"D8","v":"56教育費"},{"$f":"D9","v":"57交際費・遊興費"},{"$f":"D10","v":"58保険料"},{"$f":"D11","v":"59駐車場代"},{"$f":"D12","v":"60ガソリン代・灯油代"},{"$f":"D13","v":"61仕事"},{"$f":"D14","v":"62車代"},{"$f":"D15","v":"63介護費用"},{"$f":"D16","v":"64弁護士費用"},{"$f":"D17","v":"65家財道具"},{"$f":"D18","v":"66役所"},{"$f":"D19","v":"67散髪代"},{"$f":"D20","v":"68税金"},{"$nulls":3},{"$f":"A2","v":"01給料（自分）"},{"$f":"A3","v":"02給料（同居者）"},{"$f":"A4","v":"03自営収入（自分）"},{"$f":"A5","v":"04自営収入（同居者）"},{"$f":"A6","v":"05年金（自分）"},{"$f":"A7","v":"06年金（同居者）"},{"$f":"A8","v":"07生活保護（世帯分）"},{"$f":"A9","v":"08失業保険（自分）"},{"$f":"A10","v":"09失業保険（同居者）"},{"$f":"A11","v":"10児童手当（世帯分）"},{"$f":"A12","v":"11援助"},{"$f":"A13","v":"12公的援助"}]
["02給料（同居者）",{"$f":"AF1","v":{"v":0,"d":"¥0"}},null,"51食費",{"$f":"J1","v":{"v":0,"d":"¥0"}}]
["03自営収入（自分）",{"$f":"AG1","v":{"v":0,"d":"¥0"}},null,"52水道・光熱費",{"$f":"K1","v":{"v":0,"d":"¥0"}}]
["04自営収入（同居者）",{"$f":"AH1","v":{"v":0,"d":"¥0"}},null,"53電話料",{"$f":"L1","v":{"v":0,"d":"¥0"}}]
["05年金（自分）",{"$f":"AI1","v":{"v":0,"d":"¥0"}},null,"54衣類・日用品",{"$f":"M1","v":{"v":0,"d":"¥0"}}]
["06年金（同居者）",{"$f":"AJ1","v":{"v":0,"d":"¥0"}},null,"55医療費",{"$f":"N1","v":{"v":0,"d":"¥0"}}]
["07生活保護（世帯分）",{"$f":"AK1","v":{"v":0,"d":"¥0"}},null,"56教育費",{"$f":"O1","v":{"v":0,"d":"¥0"}}]
["08失業保険（自分）",{"$f":"AL1","v":{"v":0,"d":"¥0"}},null,"57交際費・遊興費",{"$f":"P1","v":{"v":0,"d":"¥0"}}]
["09失業保険（同居者）",{"$f":"AM1","v":{"v":0,"d":"¥0"}},null,"58保険料",{"$f":"Q1","v":{"v":0,"d":"¥0"}}]
["10児童手当（世帯分）",{"$f":"AN1","v":{"v":0,"d":"¥0"}},null,"59駐車場代",{"$f":"R1","v":{"v":0,"d":"¥0"}}]
["11援助",{"$f":"AO1","v":{"v":0,"d":"¥0"}},null,"60ガソリン代・灯油代",{"$f":"S1","v":{"v":0,"d":"¥0"}}]
["12公的援助",{"$f":"AP1","v":{"v":0,"d":"¥0"}},null,"61仕事",{"$f":"T1","v":{"v":0,"d":"¥0"}}]
[{"$nulls":3},"62車代",{"$f":"U1","v":{"v":0,"d":"¥0"}}]
[{"$nulls":3},"63介護費用",{"$f":"V1","v":{"v":0,"d":"¥0"}}]
[{"$nulls":3},"64弁護士費用",{"$f":"W1","v":{"v":0,"d":"¥0"}}]
[{"$nulls":3},"65家財道具",{"$f":"X1","v":{"v":0,"d":"¥0"}}]
[{"$nulls":3},"66役所",{"$f":"Y1","v":{"v":0,"d":"¥0"}}]
[{"$nulls":3},"67散髪代",{"$f":"Z1","v":{"v":0,"d":"¥0"}}]
[{"$nulls":3},"68税金",{"$f":"AA1","v":{"v":0,"d":"¥0"}}]
[]
[]
[]
[]
[]
[]
["合計",{"$f":"SUM(B2:B26)","v":{"v":0,"d":"¥0"}},null,null,{"$f":"SUM(E2:E26)","v":{"v":0,"d":"¥0"}},null,{"$f":"SUM(G3:G26)","v":{"v":0,"d":"¥0"}}]

{"sheet":"8月","index":11,"n_rows":27,"n_cols":43,"rows_kept":27}
[{"$nulls":7},"支払い合計",{"$f":"-SUM(I3:I1048576)","v":{"v":0,"d":"¥0"}},{"$f":"-SUM(J3:J1048576)","v":{"v":0,"d":"¥0"}},{"v":0,"d":"¥0"},{"v":0,"d":"¥0"},{"v":0,"d":"¥0"},{"v":0,"d":"¥0"},{"v":0,"d":"¥0"},{"v":0,"d":"¥0"},{"v":0,"d":"¥0"},{"v":0,"d":"¥0"},{"v":0,"d":"¥0"},{"v":0,"d":"¥0"},{"v":0,"d":"¥0"},{"v":0,"d":"¥0"},{"v":0,"d":"¥0"},{"v":0,"d":"¥0"},{"v":0,"d":"¥0"},{"v":0,"d":"¥0"},{"v":0,"d":"¥0"},{"$f":"SUM(I1:AA1)","v":{"v":0,"d":"¥0"}},null,"収入合計",{"$f":"SUM(AE3:AE1048576)","v":{"v":0,"d":"¥0"}},{"$f":"SUM(AF3:AF1048576)","v":{"v":0,"d":"¥0"}},{"v":0,"d":"¥0"},{"v":0,"d":"¥0"},{"v":0,"d":"¥0"},{"v":0,"d":"¥0"},{"v":0,"d":"¥0"},{"v":0,"d":"¥0"},{"v":0,"d":"¥0"},{"v":0,"d":"¥0"},{"v":0,"d":"¥0"},{"v":0,"d":"¥0"},{"$f":"SUM(AE1:AP1)","v":{"v":0,"d":"¥0"}}]
["01給料（自分）",{"$f":"AE1","v":{"v":0,"d":"¥0"}},null,"50家賃・管理費",{"$f":"I1","v":{"v":0,"d":"¥0"}},null,"介護支援",null,{"$f":"D2","v":"50家賃・管理費"},{"$f":"D3","v":"51食費"},{"$f":"D4","v":"52水道・光熱費"},{"$f":"D5","v":"53電話料"},{"$f":"D6","v":"54衣類・日用品"},{"$f":"D7","v":"55医療費"},{"$f":"D8","v":"56教育費"},{"$f":"D9","v":"57交際費・遊興費"},{"$f":"D10","v":"58保険料"},{"$f":"D11","v":"59駐車場代"},{"$f":"D12","v":"60ガソリン代・灯油代"},{"$f":"D13","v":"61仕事"},{"$f":"D14","v":"62車代"},{"$f":"D15","v":"63介護費用"},{"$f":"D16","v":"64弁護士費用"},{"$f":"D17","v":"65家財道具"},{"$f":"D18","v":"66役所"},{"$f":"D19","v":"67散髪代"},{"$f":"D20","v":"68税金"},{"$nulls":3},{"$f":"A2","v":"01給料（自分）"},{"$f":"A3","v":"02給料（同居者）"},{"$f":"A4","v":"03自営収入（自分）"},{"$f":"A5","v":"04自営収入（同居者）"},{"$f":"A6","v":"05年金（自分）"},{"$f":"A7","v":"06年金（同居者）"},{"$f":"A8","v":"07生活保護（世帯分）"},{"$f":"A9","v":"08失業保険（自分）"},{"$f":"A10","v":"09失業保険（同居者）"},{"$f":"A11","v":"10児童手当（世帯分）"},{"$f":"A12","v":"11援助"},{"$f":"A13","v":"12公的援助"}]
["02給料（同居者）",{"$f":"AF1","v":{"v":0,"d":"¥0"}},null,"51食費",{"$f":"J1","v":{"v":0,"d":"¥0"}}]
["03自営収入（自分）",{"$f":"AG1","v":{"v":0,"d":"¥0"}},null,"52水道・光熱費",{"$f":"K1","v":{"v":0,"d":"¥0"}}]
["04自営収入（同居者）",{"$f":"AH1","v":{"v":0,"d":"¥0"}},null,"53電話料",{"$f":"L1","v":{"v":0,"d":"¥0"}}]
["05年金（自分）",{"$f":"AI1","v":{"v":0,"d":"¥0"}},null,"54衣類・日用品",{"$f":"M1","v":{"v":0,"d":"¥0"}}]
["06年金（同居者）",{"$f":"AJ1","v":{"v":0,"d":"¥0"}},null,"55医療費",{"$f":"N1","v":{"v":0,"d":"¥0"}}]
["07生活保護（世帯分）",{"$f":"AK1","v":{"v":0,"d":"¥0"}},null,"56教育費",{"$f":"O1","v":{"v":0,"d":"¥0"}}]
["08失業保険（自分）",{"$f":"AL1","v":{"v":0,"d":"¥0"}},null,"57交際費・遊興費",{"$f":"P1","v":{"v":0,"d":"¥0"}}]
["09失業保険（同居者）",{"$f":"AM1","v":{"v":0,"d":"¥0"}},null,"58保険料",{"$f":"Q1","v":{"v":0,"d":"¥0"}}]
["10児童手当（世帯分）",{"$f":"AN1","v":{"v":0,"d":"¥0"}},null,"59駐車場代",{"$f":"R1","v":{"v":0,"d":"¥0"}}]
["11援助",{"$f":"AO1","v":{"v":0,"d":"¥0"}},null,"60ガソリン代・灯油代",{"$f":"S1","v":{"v":0,"d":"¥0"}}]
["12公的援助",{"$f":"AP1","v":{"v":0,"d":"¥0"}},null,"61仕事",{"$f":"T1","v":{"v":0,"d":"¥0"}}]
[{"$nulls":3},"62車代",{"$f":"U1","v":{"v":0,"d":"¥0"}}]
[{"$nulls":3},"63介護費用",{"$f":"V1","v":{"v":0,"d":"¥0"}}]
[{"$nulls":3},"64弁護士費用",{"$f":"W1","v":{"v":0,"d":"¥0"}}]
[{"$nulls":3},"65家財道具",{"$f":"X1","v":{"v":0,"d":"¥0"}}]
[{"$nulls":3},"66役所",{"$f":"Y1","v":{"v":0,"d":"¥0"}}]
[{"$nulls":3},"67散髪代",{"$f":"Z1","v":{"v":0,"d":"¥0"}}]
[{"$nulls":3},"68税金",{"$f":"AA1","v":{"v":0,"d":"¥0"}}]
[]
[]
[]
[]
[]
[]
["合計",{"$f":"SUM(B2:B26)","v":{"v":0,"d":"¥0"}},null,null,{"$f":"SUM(E2:E26)","v":{"v":0,"d":"¥0"}},null,{"$f":"SUM(G3:G26)","v":{"v":0,"d":"¥0"}}]

{"sheet":"9月","index":12,"n_rows":27,"n_cols":43,"rows_kept":27}
[{"$nulls":7},"支払い合計",{"$f":"-SUM(I3:I1048576)","v":{"v":0,"d":"¥0"}},{"$f":"-SUM(J3:J1048576)","v":{"v":0,"d":"¥0"}},{"v":0,"d":"¥0"},{"v":0,"d":"¥0"},{"v":0,"d":"¥0"},{"v":0,"d":"¥0"},{"v":0,"d":"¥0"},{"v":0,"d":"¥0"},{"v":0,"d":"¥0"},{"v":0,"d":"¥0"},{"v":0,"d":"¥0"},{"v":0,"d":"¥0"},{"v":0,"d":"¥0"},{"v":0,"d":"¥0"},{"v":0,"d":"¥0"},{"v":0,"d":"¥0"},{"v":0,"d":"¥0"},{"v":0,"d":"¥0"},{"v":0,"d":"¥0"},{"$f":"SUM(I1:AA1)","v":{"v":0,"d":"¥0"}},null,"収入合計",{"$f":"SUM(AE3:AE1048576)","v":{"v":0,"d":"¥0"}},{"$f":"SUM(AF3:AF1048576)","v":{"v":0,"d":"¥0"}},{"v":0,"d":"¥0"},{"v":0,"d":"¥0"},{"v":0,"d":"¥0"},{"v":0,"d":"¥0"},{"v":0,"d":"¥0"},{"v":0,"d":"¥0"},{"v":0,"d":"¥0"},{"v":0,"d":"¥0"},{"v":0,"d":"¥0"},{"v":0,"d":"¥0"},{"$f":"SUM(AE1:AP1)","v":{"v":0,"d":"¥0"}}]
["01給料（自分）",{"$f":"AE1","v":{"v":0,"d":"¥0"}},null,"50家賃・管理費",{"$f":"I1","v":{"v":0,"d":"¥0"}},null,"介護支援",null,{"$f":"D2","v":"50家賃・管理費"},{"$f":"D3","v":"51食費"},{"$f":"D4","v":"52水道・光熱費"},{"$f":"D5","v":"53電話料"},{"$f":"D6","v":"54衣類・日用品"},{"$f":"D7","v":"55医療費"},{"$f":"D8","v":"56教育費"},{"$f":"D9","v":"57交際費・遊興費"},{"$f":"D10","v":"58保険料"},{"$f":"D11","v":"59駐車場代"},{"$f":"D12","v":"60ガソリン代・灯油代"},{"$f":"D13","v":"61仕事"},{"$f":"D14","v":"62車代"},{"$f":"D15","v":"63介護費用"},{"$f":"D16","v":"64弁護士費用"},{"$f":"D17","v":"65家財道具"},{"$f":"D18","v":"66役所"},{"$f":"D19","v":"67散髪代"},{"$f":"D20","v":"68税金"},{"$nulls":3},{"$f":"A2","v":"01給料（自分）"},{"$f":"A3","v":"02給料（同居者）"},{"$f":"A4","v":"03自営収入（自分）"},{"$f":"A5","v":"04自営収入（同居者）"},{"$f":"A6","v":"05年金（自分）"},{"$f":"A7","v":"06年金（同居者）"},{"$f":"A8","v":"07生活保護（世帯分）"},{"$f":"A9","v":"08失業保険（自分）"},{"$f":"A10","v":"09失業保険（同居者）"},{"$f":"A11","v":"10児童手当（世帯分）"},{"$f":"A12","v":"11援助"},{"$f":"A13","v":"12公的援助"}]
["02給料（同居者）",{"$f":"AF1","v":{"v":0,"d":"¥0"}},null,"51食費",{"$f":"J1","v":{"v":0,"d":"¥0"}}]
["03自営収入（自分）",{"$f":"AG1","v":{"v":0,"d":"¥0"}},null,"52水道・光熱費",{"$f":"K1","v":{"v":0,"d":"¥0"}}]
["04自営収入（同居者）",{"$f":"AH1","v":{"v":0,"d":"¥0"}},null,"53電話料",{"$f":"L1","v":{"v":0,"d":"¥0"}}]
["05年金（自分）",{"$f":"AI1","v":{"v":0,"d":"¥0"}},null,"54衣類・日用品",{"$f":"M1","v":{"v":0,"d":"¥0"}}]
["06年金（同居者）",{"$f":"AJ1","v":{"v":0,"d":"¥0"}},null,"55医療費",{"$f":"N1","v":{"v":0,"d":"¥0"}}]
["07生活保護（世帯分）",{"$f":"AK1","v":{"v":0,"d":"¥0"}},null,"56教育費",{"$f":"O1","v":{"v":0,"d":"¥0"}}]
["08失業保険（自分）",{"$f":"AL1","v":{"v":0,"d":"¥0"}},null,"57交際費・遊興費",{"$f":"P1","v":{"v":0,"d":"¥0"}}]
["09失業保険（同居者）",{"$f":"AM1","v":{"v":0,"d":"¥0"}},null,"58保険料",{"$f":"Q1","v":{"v":0,"d":"¥0"}}]
["10児童手当（世帯分）",{"$f":"AN1","v":{"v":0,"d":"¥0"}},null,"59駐車場代",{"$f":"R1","v":{"v":0,"d":"¥0"}}]
["11援助",{"$f":"AO1","v":{"v":0,"d":"¥0"}},null,"60ガソリン代・灯油代",{"$f":"S1","v":{"v":0,"d":"¥0"}}]
["12公的援助",{"$f":"AP1","v":{"v":0,"d":"¥0"}},null,"61仕事",{"$f":"T1","v":{"v":0,"d":"¥0"}}]
[{"$nulls":3},"62車代",{"$f":"U1","v":{"v":0,"d":"¥0"}}]
[{"$nulls":3},"63介護費用",{"$f":"V1","v":{"v":0,"d":"¥0"}}]
[{"$nulls":3},"64弁護士費用",{"$f":"W1","v":{"v":0,"d":"¥0"}}]
[{"$nulls":3},"65家財道具",{"$f":"X1","v":{"v":0,"d":"¥0"}}]
[{"$nulls":3},"66役所",{"$f":"Y1","v":{"v":0,"d":"¥0"}}]
[{"$nulls":3},"67散髪代",{"$f":"Z1","v":{"v":0,"d":"¥0"}}]
[{"$nulls":3},"68税金",{"$f":"AA1","v":{"v":0,"d":"¥0"}}]
[]
[]
[]
[]
[]
[]
["合計",{"$f":"SUM(B2:B26)","v":{"v":0,"d":"¥0"}},null,null,{"$f":"SUM(E2:E26)","v":{"v":0,"d":"¥0"}},null,{"$f":"SUM(G3:G26)","v":{"v":0,"d":"¥0"}}]

{"sheet":"10月","index":13,"n_rows":27,"n_cols":43,"rows_kept":27}
[{"$nulls":7},"支払い合計",{"$f":"-SUM(I3:I1048576)","v":{"v":0,"d":"¥0"}},{"$f":"-SUM(J3:J1048576)","v":{"v":0,"d":"¥0"}},{"v":0,"d":"¥0"},{"v":0,"d":"¥0"},{"v":0,"d":"¥0"},{"v":0,"d":"¥0"},{"v":0,"d":"¥0"},{"v":0,"d":"¥0"},{"v":0,"d":"¥0"},{"v":0,"d":"¥0"},{"v":0,"d":"¥0"},{"v":0,"d":"¥0"},{"v":0,"d":"¥0"},{"v":0,"d":"¥0"},{"v":0,"d":"¥0"},{"v":0,"d":"¥0"},{"v":0,"d":"¥0"},{"v":0,"d":"¥0"},{"v":0,"d":"¥0"},{"$f":"SUM(I1:AA1)","v":{"v":0,"d":"¥0"}},null,"収入合計",{"$f":"SUM(AE3:AE1048576)","v":{"v":0,"d":"¥0"}},{"$f":"SUM(AF3:AF1048576)","v":{"v":0,"d":"¥0"}},{"v":0,"d":"¥0"},{"v":0,"d":"¥0"},{"v":0,"d":"¥0"},{"v":0,"d":"¥0"},{"v":0,"d":"¥0"},{"v":0,"d":"¥0"},{"v":0,"d":"¥0"},{"v":0,"d":"¥0"},{"v":0,"d":"¥0"},{"v":0,"d":"¥0"},{"$f":"SUM(AE1:AP1)","v":{"v":0,"d":"¥0"}}]
["01給料（自分）",{"$f":"AE1","v":{"v":0,"d":"¥0"}},null,"50家賃・管理費",{"$f":"I1","v":{"v":0,"d":"¥0"}},null,"介護支援",null,{"$f":"D2","v":"50家賃・管理費"},{"$f":"D3","v":"51食費"},{"$f":"D4","v":"52水道・光熱費"},{"$f":"D5","v":"53電話料"},{"$f":"D6","v":"54衣類・日用品"},{"$f":"D7","v":"55医療費"},{"$f":"D8","v":"56教育費"},{"$f":"D9","v":"57交際費・遊興費"},{"$f":"D10","v":"58保険料"},{"$f":"D11","v":"59駐車場代"},{"$f":"D12","v":"60ガソリン代・灯油代"},{"$f":"D13","v":"61仕事"},{"$f":"D14","v":"62車代"},{"$f":"D15","v":"63介護費用"},{"$f":"D16","v":"64弁護士費用"},{"$f":"D17","v":"65家財道具"},{"$f":"D18","v":"66役所"},{"$f":"D19","v":"67散髪代"},{"$f":"D20","v":"68税金"},{"$nulls":3},{"$f":"A2","v":"01給料（自分）"},{"$f":"A3","v":"02給料（同居者）"},{"$f":"A4","v":"03自営収入（自分）"},{"$f":"A5","v":"04自営収入（同居者）"},{"$f":"A6","v":"05年金（自分）"},{"$f":"A7","v":"06年金（同居者）"},{"$f":"A8","v":"07生活保護（世帯分）"},{"$f":"A9","v":"08失業保険（自分）"},{"$f":"A10","v":"09失業保険（同居者）"},{"$f":"A11","v":"10児童手当（世帯分）"},{"$f":"A12","v":"11援助"},{"$f":"A13","v":"12公的援助"}]
["02給料（同居者）",{"$f":"AF1","v":{"v":0,"d":"¥0"}},null,"51食費",{"$f":"J1","v":{"v":0,"d":"¥0"}}]
["03自営収入（自分）",{"$f":"AG1","v":{"v":0,"d":"¥0"}},null,"52水道・光熱費",{"$f":"K1","v":{"v":0,"d":"¥0"}}]
["04自営収入（同居者）",{"$f":"AH1","v":{"v":0,"d":"¥0"}},null,"53電話料",{"$f":"L1","v":{"v":0,"d":"¥0"}}]
["05年金（自分）",{"$f":"AI1","v":{"v":0,"d":"¥0"}},null,"54衣類・日用品",{"$f":"M1","v":{"v":0,"d":"¥0"}}]
["06年金（同居者）",{"$f":"AJ1","v":{"v":0,"d":"¥0"}},null,"55医療費",{"$f":"N1","v":{"v":0,"d":"¥0"}}]
["07生活保護（世帯分）",{"$f":"AK1","v":{"v":0,"d":"¥0"}},null,"56教育費",{"$f":"O1","v":{"v":0,"d":"¥0"}}]
["08失業保険（自分）",{"$f":"AL1","v":{"v":0,"d":"¥0"}},null,"57交際費・遊興費",{"$f":"P1","v":{"v":0,"d":"¥0"}}]
["09失業保険（同居者）",{"$f":"AM1","v":{"v":0,"d":"¥0"}},null,"58保険料",{"$f":"Q1","v":{"v":0,"d":"¥0"}}]
["10児童手当（世帯分）",{"$f":"AN1","v":{"v":0,"d":"¥0"}},null,"59駐車場代",{"$f":"R1","v":{"v":0,"d":"¥0"}}]
["11援助",{"$f":"AO1","v":{"v":0,"d":"¥0"}},null,"60ガソリン代・灯油代",{"$f":"S1","v":{"v":0,"d":"¥0"}}]
["12公的援助",{"$f":"AP1","v":{"v":0,"d":"¥0"}},null,"61仕事",{"$f":"T1","v":{"v":0,"d":"¥0"}}]
[{"$nulls":3},"62車代",{"$f":"U1","v":{"v":0,"d":"¥0"}}]
[{"$nulls":3},"63介護費用",{"$f":"V1","v":{"v":0,"d":"¥0"}}]
[{"$nulls":3},"64弁護士費用",{"$f":"W1","v":{"v":0,"d":"¥0"}}]
[{"$nulls":3},"65家財道具",{"$f":"X1","v":{"v":0,"d":"¥0"}}]
[{"$nulls":3},"66役所",{"$f":"Y1","v":{"v":0,"d":"¥0"}}]
[{"$nulls":3},"67散髪代",{"$f":"Z1","v":{"v":0,"d":"¥0"}}]
[{"$nulls":3},"68税金",{"$f":"AA1","v":{"v":0,"d":"¥0"}}]
[]
[]
[]
[]
[]
[]
["合計",{"$f":"SUM(B2:B26)","v":{"v":0,"d":"¥0"}},null,null,{"$f":"SUM(E2:E26)","v":{"v":0,"d":"¥0"}},null,{"$f":"SUM(G3:G26)","v":{"v":0,"d":"¥0"}}]

{"sheet":"11月","index":14,"n_rows":27,"n_cols":43,"rows_kept":27}
[{"$nulls":7},"支払い合計",{"$f":"-SUM(I3:I1048576)","v":{"v":0,"d":"¥0"}},{"$f":"-SUM(J3:J1048576)","v":{"v":0,"d":"¥0"}},{"v":0,"d":"¥0"},{"v":0,"d":"¥0"},{"v":0,"d":"¥0"},{"v":0,"d":"¥0"},{"v":0,"d":"¥0"},{"v":0,"d":"¥0"},{"v":0,"d":"¥0"},{"v":0,"d":"¥0"},{"v":0,"d":"¥0"},{"v":0,"d":"¥0"},{"v":0,"d":"¥0"},{"v":0,"d":"¥0"},{"v":0,"d":"¥0"},{"v":0,"d":"¥0"},{"v":0,"d":"¥0"},{"v":0,"d":"¥0"},{"v":0,"d":"¥0"},{"$f":"SUM(I1:AA1)","v":{"v":0,"d":"¥0"}},null,"収入合計",{"$f":"SUM(AE3:AE1048576)","v":{"v":0,"d":"¥0"}},{"$f":"SUM(AF3:AF1048576)","v":{"v":0,"d":"¥0"}},{"v":0,"d":"¥0"},{"v":0,"d":"¥0"},{"v":0,"d":"¥0"},{"v":0,"d":"¥0"},{"v":0,"d":"¥0"},{"v":0,"d":"¥0"},{"v":0,"d":"¥0"},{"v":0,"d":"¥0"},{"v":0,"d":"¥0"},{"v":0,"d":"¥0"},{"$f":"SUM(AE1:AP1)","v":{"v":0,"d":"¥0"}}]
["01給料（自分）",{"$f":"AE1","v":{"v":0,"d":"¥0"}},null,"50家賃・管理費",{"$f":"I1","v":{"v":0,"d":"¥0"}},null,"介護支援",null,{"$f":"D2","v":"50家賃・管理費"},{"$f":"D3","v":"51食費"},{"$f":"D4","v":"52水道・光熱費"},{"$f":"D5","v":"53電話料"},{"$f":"D6","v":"54衣類・日用品"},{"$f":"D7","v":"55医療費"},{"$f":"D8","v":"56教育費"},{"$f":"D9","v":"57交際費・遊興費"},{"$f":"D10","v":"58保険料"},{"$f":"D11","v":"59駐車場代"},{"$f":"D12","v":"60ガソリン代・灯油代"},{"$f":"D13","v":"61仕事"},{"$f":"D14","v":"62車代"},{"$f":"D15","v":"63介護費用"},{"$f":"D16","v":"64弁護士費用"},{"$f":"D17","v":"65家財道具"},{"$f":"D18","v":"66役所"},{"$f":"D19","v":"67散髪代"},{"$f":"D20","v":"68税金"},{"$nulls":3},{"$f":"A2","v":"01給料（自分）"},{"$f":"A3","v":"02給料（同居者）"},{"$f":"A4","v":"03自営収入（自分）"},{"$f":"A5","v":"04自営収入（同居者）"},{"$f":"A6","v":"05年金（自分）"},{"$f":"A7","v":"06年金（同居者）"},{"$f":"A8","v":"07生活保護（世帯分）"},{"$f":"A9","v":"08失業保険（自分）"},{"$f":"A10","v":"09失業保険（同居者）"},{"$f":"A11","v":"10児童手当（世帯分）"},{"$f":"A12","v":"11援助"},{"$f":"A13","v":"12公的援助"}]
["02給料（同居者）",{"$f":"AF1","v":{"v":0,"d":"¥0"}},null,"51食費",{"$f":"J1","v":{"v":0,"d":"¥0"}}]
["03自営収入（自分）",{"$f":"AG1","v":{"v":0,"d":"¥0"}},null,"52水道・光熱費",{"$f":"K1","v":{"v":0,"d":"¥0"}}]
["04自営収入（同居者）",{"$f":"AH1","v":{"v":0,"d":"¥0"}},null,"53電話料",{"$f":"L1","v":{"v":0,"d":"¥0"}}]
["05年金（自分）",{"$f":"AI1","v":{"v":0,"d":"¥0"}},null,"54衣類・日用品",{"$f":"M1","v":{"v":0,"d":"¥0"}}]
["06年金（同居者）",{"$f":"AJ1","v":{"v":0,"d":"¥0"}},null,"55医療費",{"$f":"N1","v":{"v":0,"d":"¥0"}}]
["07生活保護（世帯分）",{"$f":"AK1","v":{"v":0,"d":"¥0"}},null,"56教育費",{"$f":"O1","v":{"v":0,"d":"¥0"}}]
["08失業保険（自分）",{"$f":"AL1","v":{"v":0,"d":"¥0"}},null,"57交際費・遊興費",{"$f":"P1","v":{"v":0,"d":"¥0"}}]
["09失業保険（同居者）",{"$f":"AM1","v":{"v":0,"d":"¥0"}},null,"58保険料",{"$f":"Q1","v":{"v":0,"d":"¥0"}}]
["10児童手当（世帯分）",{"$f":"AN1","v":{"v":0,"d":"¥0"}},null,"59駐車場代",{"$f":"R1","v":{"v":0,"d":"¥0"}}]
["11援助",{"$f":"AO1","v":{"v":0,"d":"¥0"}},null,"60ガソリン代・灯油代",{"$f":"S1","v":{"v":0,"d":"¥0"}}]
["12公的援助",{"$f":"AP1","v":{"v":0,"d":"¥0"}},null,"61仕事",{"$f":"T1","v":{"v":0,"d":"¥0"}}]
[{"$nulls":3},"62車代",{"$f":"U1","v":{"v":0,"d":"¥0"}}]
[{"$nulls":3},"63介護費用",{"$f":"V1","v":{"v":0,"d":"¥0"}}]
[{"$nulls":3},"64弁護士費用",{"$f":"W1","v":{"v":0,"d":"¥0"}}]
[{"$nulls":3},"65家財道具",{"$f":"X1","v":{"v":0,"d":"¥0"}}]
[{"$nulls":3},"66役所",{"$f":"Y1","v":{"v":0,"d":"¥0"}}]
[{"$nulls":3},"67散髪代",{"$f":"Z1","v":{"v":0,"d":"¥0"}}]
[{"$nulls":3},"68税金",{"$f":"AA1","v":{"v":0,"d":"¥0"}}]
[]
[]
[]
[]
[]
[]
["合計",{"$f":"SUM(B2:B26)","v":{"v":0,"d":"¥0"}},null,null,{"$f":"SUM(E2:E26)","v":{"v":0,"d":"¥0"}},null,{"$f":"SUM(G3:G26)","v":{"v":0,"d":"¥0"}}]

{"sheet":"12月","index":15,"n_rows":27,"n_cols":43,"rows_kept":27}
[{"$nulls":7},"支払い合計",{"$f":"-SUM(I3:I1048576)","v":{"v":0,"d":"¥0"}},{"$f":"-SUM(J3:J1048576)","v":{"v":0,"d":"¥0"}},{"v":0,"d":"¥0"},{"v":0,"d":"¥0"},{"v":0,"d":"¥0"},{"v":0,"d":"¥0"},{"v":0,"d":"¥0"},{"v":0,"d":"¥0"},{"v":0,"d":"¥0"},{"v":0,"d":"¥0"},{"v":0,"d":"¥0"},{"v":0,"d":"¥0"},{"v":0,"d":"¥0"},{"v":0,"d":"¥0"},{"v":0,"d":"¥0"},{"v":0,"d":"¥0"},{"v":0,"d":"¥0"},{"v":0,"d":"¥0"},{"v":0,"d":"¥0"},{"$f":"SUM(I1:AA1)","v":{"v":0,"d":"¥0"}},null,"収入合計",{"$f":"SUM(AE3:AE1048576)","v":{"v":0,"d":"¥0"}},{"$f":"SUM(AF3:AF1048576)","v":{"v":0,"d":"¥0"}},{"v":0,"d":"¥0"},{"v":0,"d":"¥0"},{"v":0,"d":"¥0"},{"v":0,"d":"¥0"},{"v":0,"d":"¥0"},{"v":0,"d":"¥0"},{"v":0,"d":"¥0"},{"v":0,"d":"¥0"},{"v":0,"d":"¥0"},{"v":0,"d":"¥0"},{"$f":"SUM(AE1:AP1)","v":{"v":0,"d":"¥0"}}]
["01給料（自分）",{"$f":"AE1","v":{"v":0,"d":"¥0"}},null,"50家賃・管理費",{"$f":"I1","v":{"v":0,"d":"¥0"}},null,"介護支援",null,{"$f":"D2","v":"50家賃・管理費"},{"$f":"D3","v":"51食費"},{"$f":"D4","v":"52水道・光熱費"},{"$f":"D5","v":"53電話料"},{"$f":"D6","v":"54衣類・日用品"},{"$f":"D7","v":"55医療費"},{"$f":"D8","v":"56教育費"},{"$f":"D9","v":"57交際費・遊興費"},{"$f":"D10","v":"58保険料"},{"$f":"D11","v":"59駐車場代"},{"$f":"D12","v":"60ガソリン代・灯油代"},{"$f":"D13","v":"61仕事"},{"$f":"D14","v":"62車代"},{"$f":"D15","v":"63介護費用"},{"$f":"D16","v":"64弁護士費用"},{"$f":"D17","v":"65家財道具"},{"$f":"D18","v":"66役所"},{"$f":"D19","v":"67散髪代"},{"$f":"D20","v":"68税金"},{"$nulls":3},{"$f":"A2","v":"01給料（自分）"},{"$f":"A3","v":"02給料（同居者）"},{"$f":"A4","v":"03自営収入（自分）"},{"$f":"A5","v":"04自営収入（同居者）"},{"$f":"A6","v":"05年金（自分）"},{"$f":"A7","v":"06年金（同居者）"},{"$f":"A8","v":"07生活保護（世帯分）"},{"$f":"A9","v":"08失業保険（自分）"},{"$f":"A10","v":"09失業保険（同居者）"},{"$f":"A11","v":"10児童手当（世帯分）"},{"$f":"A12","v":"11援助"},{"$f":"A13","v":"12公的援助"}]
["02給料（同居者）",{"$f":"AF1","v":{"v":0,"d":"¥0"}},null,"51食費",{"$f":"J1","v":{"v":0,"d":"¥0"}}]
["03自営収入（自分）",{"$f":"AG1","v":{"v":0,"d":"¥0"}},null,"52水道・光熱費",{"$f":"K1","v":{"v":0,"d":"¥0"}}]
["04自営収入（同居者）",{"$f":"AH1","v":{"v":0,"d":"¥0"}},null,"53電話料",{"$f":"L1","v":{"v":0,"d":"¥0"}}]
["05年金（自分）",{"$f":"AI1","v":{"v":0,"d":"¥0"}},null,"54衣類・日用品",{"$f":"M1","v":{"v":0,"d":"¥0"}}]
["06年金（同居者）",{"$f":"AJ1","v":{"v":0,"d":"¥0"}},null,"55医療費",{"$f":"N1","v":{"v":0,"d":"¥0"}}]
["07生活保護（世帯分）",{"$f":"AK1","v":{"v":0,"d":"¥0"}},null,"56教育費",{"$f":"O1","v":{"v":0,"d":"¥0"}}]
["08失業保険（自分）",{"$f":"AL1","v":{"v":0,"d":"¥0"}},null,"57交際費・遊興費",{"$f":"P1","v":{"v":0,"d":"¥0"}}]
["09失業保険（同居者）",{"$f":"AM1","v":{"v":0,"d":"¥0"}},null,"58保険料",{"$f":"Q1","v":{"v":0,"d":"¥0"}}]
["10児童手当（世帯分）",{"$f":"AN1","v":{"v":0,"d":"¥0"}},null,"59駐車場代",{"$f":"R1","v":{"v":0,"d":"¥0"}}]
["11援助",{"$f":"AO1","v":{"v":0,"d":"¥0"}},null,"60ガソリン代・灯油代",{"$f":"S1","v":{"v":0,"d":"¥0"}}]
["12公的援助",{"$f":"AP1","v":{"v":0,"d":"¥0"}},null,"61仕事",{"$f":"T1","v":{"v":0,"d":"¥0"}}]
[{"$nulls":3},"62車代",{"$f":"U1","v":{"v":0,"d":"¥0"}}]
[{"$nulls":3},"63介護費用",{"$f":"V1","v":{"v":0,"d":"¥0"}}]
[{"$nulls":3},"64弁護士費用",{"$f":"W1","v":{"v":0,"d":"¥0"}}]
[{"$nulls":3},"65家財道具",{"$f":"X1","v":{"v":0,"d":"¥0"}}]
[{"$nulls":3},"66役所",{"$f":"Y1","v":{"v":0,"d":"¥0"}}]
[{"$nulls":3},"67散髪代",{"$f":"Z1","v":{"v":0,"d":"¥0"}}]
[{"$nulls":3},"68税金",{"$f":"AA1","v":{"v":0,"d":"¥0"}}]
[]
[]
[]
[]
[]
[]
["合計",{"$f":"SUM(B2:B26)","v":{"v":0,"d":"¥0"}},null,null,{"$f":"SUM(E2:E26)","v":{"v":0,"d":"¥0"}},null,{"$f":"SUM(G3:G26)","v":{"v":0,"d":"¥0"}}]